BEGIN:VCALENDAR
VERSION:2.0
PRODID:-//BUP - ECPv6.15.20//NONSGML v1.0//EN
CALSCALE:GREGORIAN
METHOD:PUBLISH
X-WR-CALNAME:BUP
X-ORIGINAL-URL:https://www.bethesda.org
X-WR-CALDESC:Events for BUP
REFRESH-INTERVAL;VALUE=DURATION:PT1H
X-Robots-Tag:noindex
X-PUBLISHED-TTL:PT1H
BEGIN:VTIMEZONE
TZID:America/New_York
BEGIN:DAYLIGHT
TZOFFSETFROM:-0500
TZOFFSETTO:-0400
TZNAME:EDT
DTSTART:20240310T070000
END:DAYLIGHT
BEGIN:STANDARD
TZOFFSETFROM:-0400
TZOFFSETTO:-0500
TZNAME:EST
DTSTART:20241103T060000
END:STANDARD
BEGIN:DAYLIGHT
TZOFFSETFROM:-0500
TZOFFSETTO:-0400
TZNAME:EDT
DTSTART:20250309T070000
END:DAYLIGHT
BEGIN:STANDARD
TZOFFSETFROM:-0400
TZOFFSETTO:-0500
TZNAME:EST
DTSTART:20251102T060000
END:STANDARD
BEGIN:DAYLIGHT
TZOFFSETFROM:-0500
TZOFFSETTO:-0400
TZNAME:EDT
DTSTART:20260308T070000
END:DAYLIGHT
BEGIN:STANDARD
TZOFFSETFROM:-0400
TZOFFSETTO:-0500
TZNAME:EST
DTSTART:20261101T060000
END:STANDARD
END:VTIMEZONE
BEGIN:VEVENT
DTSTART;VALUE=DATE:20250317
DTEND;VALUE=DATE:20250525
DTSTAMP:20260424T075128
CREATED:20250317T180301Z
LAST-MODIFIED:20250317T181015Z
UID:10000212-1742169600-1748131199@www.bethesda.org
SUMMARY:35th Creative Crafts Exhibition
DESCRIPTION:The Creative Crafts Council (CCC) celebrates its 35th biennial exhibition supporting the finest crafts from Maryland\, Virginia\, and Washington\, DC. The first biennial had bold beginnings as the Exhibition of Creative Arts at the National Collection of Fine Arts\, now known as the National Museum of American Art\, and today continues a long tradition of exhibiting at Strathmore.  \nMeet the Artist Guilds\nThe Creative Crafts Council Guilds will be on site to meet visitors and share their love of art and craft. Meet them on Sat\, March 29 and Sat\, April 26 from 11am to 2pm.
URL:https://www.bethesda.org/event/35th-creative-crafts-exhibition/
LOCATION:The Mansion at Strathmore
END:VEVENT
BEGIN:VEVENT
DTSTART;TZID=America/New_York:20250306T000000
DTEND;TZID=America/New_York:20250306T000000
DTSTAMP:20260424T075128
CREATED:20250106T044135Z
LAST-MODIFIED:20250106T230817Z
UID:10000018-1741219200-1741219200@www.bethesda.org
SUMMARY:Paul Galbraith
DESCRIPTION:Paul Galbraith is a Grammy-nominated classical guitarist praised by Gramophone for his “magnificently played\, thoughtful and majestic performances.” His unique playing position and his guitar’s extraordinary design have drawn international acclaim. More Information & Tickets.
URL:https://www.bethesda.org/event/paul-galbraith/
LOCATION:The Mansion at Strathmore
CATEGORIES:Concerts/Music
END:VEVENT
END:VCALENDAR