BEGIN:VCALENDAR
VERSION:2.0
PRODID:-//BUP - ECPv6.15.20//NONSGML v1.0//EN
CALSCALE:GREGORIAN
METHOD:PUBLISH
X-ORIGINAL-URL:https://www.bethesda.org
X-WR-CALDESC:Events for BUP
REFRESH-INTERVAL;VALUE=DURATION:PT1H
X-Robots-Tag:noindex
X-PUBLISHED-TTL:PT1H
BEGIN:VTIMEZONE
TZID:America/New_York
BEGIN:DAYLIGHT
TZOFFSETFROM:-0500
TZOFFSETTO:-0400
TZNAME:EDT
DTSTART:20250309T070000
END:DAYLIGHT
BEGIN:STANDARD
TZOFFSETFROM:-0400
TZOFFSETTO:-0500
TZNAME:EST
DTSTART:20251102T060000
END:STANDARD
BEGIN:DAYLIGHT
TZOFFSETFROM:-0500
TZOFFSETTO:-0400
TZNAME:EDT
DTSTART:20260308T070000
END:DAYLIGHT
BEGIN:STANDARD
TZOFFSETFROM:-0400
TZOFFSETTO:-0500
TZNAME:EST
DTSTART:20261101T060000
END:STANDARD
BEGIN:DAYLIGHT
TZOFFSETFROM:-0500
TZOFFSETTO:-0400
TZNAME:EDT
DTSTART:20270314T070000
END:DAYLIGHT
BEGIN:STANDARD
TZOFFSETFROM:-0400
TZOFFSETTO:-0500
TZNAME:EST
DTSTART:20271107T060000
END:STANDARD
END:VTIMEZONE
BEGIN:VEVENT
DTSTART;TZID=America/New_York:20260422T160000
DTEND;TZID=America/New_York:20260422T170000
DTSTAMP:20260422T114528
CREATED:20251212T205856Z
LAST-MODIFIED:20251212T205856Z
UID:10000435-1776873600-1776877200@www.bethesda.org
SUMMARY:LEGO Construction & Duplo Too!
DESCRIPTION:Each Wednesday\, join us in the meeting room from 4:00pm-5:00pm for a session of building with LEGO and Duplos! We supply the LEGO and Duplo pieces\, and you supply the imagination! \nThis program is for children ages 3 years old and up. Parents/caregivers MUST accompany children under the age of 8 during the program.
URL:https://www.bethesda.org/event/lego-construction-duplo-too-2/2026-04-22/
LOCATION:Connie Morella Library\, 7400 Arlington Road\, Bethesda\, MD\, 20814\, United States
CATEGORIES:Children's Event/Classes
END:VEVENT
BEGIN:VEVENT
DTSTART;TZID=America/New_York:20260429T160000
DTEND;TZID=America/New_York:20260429T170000
DTSTAMP:20260422T114528
CREATED:20251212T205856Z
LAST-MODIFIED:20251212T205856Z
UID:10000436-1777478400-1777482000@www.bethesda.org
SUMMARY:LEGO Construction & Duplo Too!
DESCRIPTION:Each Wednesday\, join us in the meeting room from 4:00pm-5:00pm for a session of building with LEGO and Duplos! We supply the LEGO and Duplo pieces\, and you supply the imagination! \nThis program is for children ages 3 years old and up. Parents/caregivers MUST accompany children under the age of 8 during the program.
URL:https://www.bethesda.org/event/lego-construction-duplo-too-2/2026-04-29/
LOCATION:Connie Morella Library\, 7400 Arlington Road\, Bethesda\, MD\, 20814\, United States
CATEGORIES:Children's Event/Classes
END:VEVENT
BEGIN:VEVENT
DTSTART;TZID=America/New_York:20260506T160000
DTEND;TZID=America/New_York:20260506T170000
DTSTAMP:20260422T114528
CREATED:20251212T205856Z
LAST-MODIFIED:20251212T205856Z
UID:10000437-1778083200-1778086800@www.bethesda.org
SUMMARY:LEGO Construction & Duplo Too!
DESCRIPTION:Each Wednesday\, join us in the meeting room from 4:00pm-5:00pm for a session of building with LEGO and Duplos! We supply the LEGO and Duplo pieces\, and you supply the imagination! \nThis program is for children ages 3 years old and up. Parents/caregivers MUST accompany children under the age of 8 during the program.
URL:https://www.bethesda.org/event/lego-construction-duplo-too-2/2026-05-06/
LOCATION:Connie Morella Library\, 7400 Arlington Road\, Bethesda\, MD\, 20814\, United States
CATEGORIES:Children's Event/Classes
END:VEVENT
BEGIN:VEVENT
DTSTART;TZID=America/New_York:20260513T160000
DTEND;TZID=America/New_York:20260513T170000
DTSTAMP:20260422T114528
CREATED:20251212T205856Z
LAST-MODIFIED:20251212T205856Z
UID:10000438-1778688000-1778691600@www.bethesda.org
SUMMARY:LEGO Construction & Duplo Too!
DESCRIPTION:Each Wednesday\, join us in the meeting room from 4:00pm-5:00pm for a session of building with LEGO and Duplos! We supply the LEGO and Duplo pieces\, and you supply the imagination! \nThis program is for children ages 3 years old and up. Parents/caregivers MUST accompany children under the age of 8 during the program.
URL:https://www.bethesda.org/event/lego-construction-duplo-too-2/2026-05-13/
LOCATION:Connie Morella Library\, 7400 Arlington Road\, Bethesda\, MD\, 20814\, United States
CATEGORIES:Children's Event/Classes
END:VEVENT
BEGIN:VEVENT
DTSTART;TZID=America/New_York:20260520T160000
DTEND;TZID=America/New_York:20260520T170000
DTSTAMP:20260422T114528
CREATED:20251212T205856Z
LAST-MODIFIED:20251212T205856Z
UID:10000439-1779292800-1779296400@www.bethesda.org
SUMMARY:LEGO Construction & Duplo Too!
DESCRIPTION:Each Wednesday\, join us in the meeting room from 4:00pm-5:00pm for a session of building with LEGO and Duplos! We supply the LEGO and Duplo pieces\, and you supply the imagination! \nThis program is for children ages 3 years old and up. Parents/caregivers MUST accompany children under the age of 8 during the program.
URL:https://www.bethesda.org/event/lego-construction-duplo-too-2/2026-05-20/
LOCATION:Connie Morella Library\, 7400 Arlington Road\, Bethesda\, MD\, 20814\, United States
CATEGORIES:Children's Event/Classes
END:VEVENT
BEGIN:VEVENT
DTSTART;TZID=America/New_York:20260527T160000
DTEND;TZID=America/New_York:20260527T170000
DTSTAMP:20260422T114528
CREATED:20251212T205856Z
LAST-MODIFIED:20251212T205856Z
UID:10000440-1779897600-1779901200@www.bethesda.org
SUMMARY:LEGO Construction & Duplo Too!
DESCRIPTION:Each Wednesday\, join us in the meeting room from 4:00pm-5:00pm for a session of building with LEGO and Duplos! We supply the LEGO and Duplo pieces\, and you supply the imagination! \nThis program is for children ages 3 years old and up. Parents/caregivers MUST accompany children under the age of 8 during the program.
URL:https://www.bethesda.org/event/lego-construction-duplo-too-2/2026-05-27/
LOCATION:Connie Morella Library\, 7400 Arlington Road\, Bethesda\, MD\, 20814\, United States
CATEGORIES:Children's Event/Classes
END:VEVENT
BEGIN:VEVENT
DTSTART;TZID=America/New_York:20260603T160000
DTEND;TZID=America/New_York:20260603T170000
DTSTAMP:20260422T114528
CREATED:20251212T205856Z
LAST-MODIFIED:20251212T205856Z
UID:10000441-1780502400-1780506000@www.bethesda.org
SUMMARY:LEGO Construction & Duplo Too!
DESCRIPTION:Each Wednesday\, join us in the meeting room from 4:00pm-5:00pm for a session of building with LEGO and Duplos! We supply the LEGO and Duplo pieces\, and you supply the imagination! \nThis program is for children ages 3 years old and up. Parents/caregivers MUST accompany children under the age of 8 during the program.
URL:https://www.bethesda.org/event/lego-construction-duplo-too-2/2026-06-03/
LOCATION:Connie Morella Library\, 7400 Arlington Road\, Bethesda\, MD\, 20814\, United States
CATEGORIES:Children's Event/Classes
END:VEVENT
BEGIN:VEVENT
DTSTART;TZID=America/New_York:20260610T160000
DTEND;TZID=America/New_York:20260610T170000
DTSTAMP:20260422T114528
CREATED:20251212T205856Z
LAST-MODIFIED:20251212T205856Z
UID:10000442-1781107200-1781110800@www.bethesda.org
SUMMARY:LEGO Construction & Duplo Too!
DESCRIPTION:Each Wednesday\, join us in the meeting room from 4:00pm-5:00pm for a session of building with LEGO and Duplos! We supply the LEGO and Duplo pieces\, and you supply the imagination! \nThis program is for children ages 3 years old and up. Parents/caregivers MUST accompany children under the age of 8 during the program.
URL:https://www.bethesda.org/event/lego-construction-duplo-too-2/2026-06-10/
LOCATION:Connie Morella Library\, 7400 Arlington Road\, Bethesda\, MD\, 20814\, United States
CATEGORIES:Children's Event/Classes
END:VEVENT
BEGIN:VEVENT
DTSTART;TZID=America/New_York:20260617T160000
DTEND;TZID=America/New_York:20260617T170000
DTSTAMP:20260422T114528
CREATED:20251212T205856Z
LAST-MODIFIED:20251212T205856Z
UID:10000443-1781712000-1781715600@www.bethesda.org
SUMMARY:LEGO Construction & Duplo Too!
DESCRIPTION:Each Wednesday\, join us in the meeting room from 4:00pm-5:00pm for a session of building with LEGO and Duplos! We supply the LEGO and Duplo pieces\, and you supply the imagination! \nThis program is for children ages 3 years old and up. Parents/caregivers MUST accompany children under the age of 8 during the program.
URL:https://www.bethesda.org/event/lego-construction-duplo-too-2/2026-06-17/
LOCATION:Connie Morella Library\, 7400 Arlington Road\, Bethesda\, MD\, 20814\, United States
CATEGORIES:Children's Event/Classes
END:VEVENT
BEGIN:VEVENT
DTSTART;TZID=America/New_York:20260624T160000
DTEND;TZID=America/New_York:20260624T170000
DTSTAMP:20260422T114528
CREATED:20251212T205856Z
LAST-MODIFIED:20251212T205856Z
UID:10000444-1782316800-1782320400@www.bethesda.org
SUMMARY:LEGO Construction & Duplo Too!
DESCRIPTION:Each Wednesday\, join us in the meeting room from 4:00pm-5:00pm for a session of building with LEGO and Duplos! We supply the LEGO and Duplo pieces\, and you supply the imagination! \nThis program is for children ages 3 years old and up. Parents/caregivers MUST accompany children under the age of 8 during the program.
URL:https://www.bethesda.org/event/lego-construction-duplo-too-2/2026-06-24/
LOCATION:Connie Morella Library\, 7400 Arlington Road\, Bethesda\, MD\, 20814\, United States
CATEGORIES:Children's Event/Classes
END:VEVENT
BEGIN:VEVENT
DTSTART;TZID=America/New_York:20260701T160000
DTEND;TZID=America/New_York:20260701T170000
DTSTAMP:20260422T114528
CREATED:20251212T205856Z
LAST-MODIFIED:20251212T205856Z
UID:10000445-1782921600-1782925200@www.bethesda.org
SUMMARY:LEGO Construction & Duplo Too!
DESCRIPTION:Each Wednesday\, join us in the meeting room from 4:00pm-5:00pm for a session of building with LEGO and Duplos! We supply the LEGO and Duplo pieces\, and you supply the imagination! \nThis program is for children ages 3 years old and up. Parents/caregivers MUST accompany children under the age of 8 during the program.
URL:https://www.bethesda.org/event/lego-construction-duplo-too-2/2026-07-01/
LOCATION:Connie Morella Library\, 7400 Arlington Road\, Bethesda\, MD\, 20814\, United States
CATEGORIES:Children's Event/Classes
END:VEVENT
BEGIN:VEVENT
DTSTART;TZID=America/New_York:20260708T160000
DTEND;TZID=America/New_York:20260708T170000
DTSTAMP:20260422T114528
CREATED:20251212T205856Z
LAST-MODIFIED:20251212T205856Z
UID:10000446-1783526400-1783530000@www.bethesda.org
SUMMARY:LEGO Construction & Duplo Too!
DESCRIPTION:Each Wednesday\, join us in the meeting room from 4:00pm-5:00pm for a session of building with LEGO and Duplos! We supply the LEGO and Duplo pieces\, and you supply the imagination! \nThis program is for children ages 3 years old and up. Parents/caregivers MUST accompany children under the age of 8 during the program.
URL:https://www.bethesda.org/event/lego-construction-duplo-too-2/2026-07-08/
LOCATION:Connie Morella Library\, 7400 Arlington Road\, Bethesda\, MD\, 20814\, United States
CATEGORIES:Children's Event/Classes
END:VEVENT
BEGIN:VEVENT
DTSTART;TZID=America/New_York:20260715T160000
DTEND;TZID=America/New_York:20260715T170000
DTSTAMP:20260422T114528
CREATED:20251212T205856Z
LAST-MODIFIED:20251212T205856Z
UID:10000447-1784131200-1784134800@www.bethesda.org
SUMMARY:LEGO Construction & Duplo Too!
DESCRIPTION:Each Wednesday\, join us in the meeting room from 4:00pm-5:00pm for a session of building with LEGO and Duplos! We supply the LEGO and Duplo pieces\, and you supply the imagination! \nThis program is for children ages 3 years old and up. Parents/caregivers MUST accompany children under the age of 8 during the program.
URL:https://www.bethesda.org/event/lego-construction-duplo-too-2/2026-07-15/
LOCATION:Connie Morella Library\, 7400 Arlington Road\, Bethesda\, MD\, 20814\, United States
CATEGORIES:Children's Event/Classes
END:VEVENT
BEGIN:VEVENT
DTSTART;TZID=America/New_York:20260722T160000
DTEND;TZID=America/New_York:20260722T170000
DTSTAMP:20260422T114528
CREATED:20251212T205856Z
LAST-MODIFIED:20251212T205856Z
UID:10000448-1784736000-1784739600@www.bethesda.org
SUMMARY:LEGO Construction & Duplo Too!
DESCRIPTION:Each Wednesday\, join us in the meeting room from 4:00pm-5:00pm for a session of building with LEGO and Duplos! We supply the LEGO and Duplo pieces\, and you supply the imagination! \nThis program is for children ages 3 years old and up. Parents/caregivers MUST accompany children under the age of 8 during the program.
URL:https://www.bethesda.org/event/lego-construction-duplo-too-2/2026-07-22/
LOCATION:Connie Morella Library\, 7400 Arlington Road\, Bethesda\, MD\, 20814\, United States
CATEGORIES:Children's Event/Classes
END:VEVENT
BEGIN:VEVENT
DTSTART;TZID=America/New_York:20260729T160000
DTEND;TZID=America/New_York:20260729T170000
DTSTAMP:20260422T114528
CREATED:20251212T205856Z
LAST-MODIFIED:20251212T205856Z
UID:10000449-1785340800-1785344400@www.bethesda.org
SUMMARY:LEGO Construction & Duplo Too!
DESCRIPTION:Each Wednesday\, join us in the meeting room from 4:00pm-5:00pm for a session of building with LEGO and Duplos! We supply the LEGO and Duplo pieces\, and you supply the imagination! \nThis program is for children ages 3 years old and up. Parents/caregivers MUST accompany children under the age of 8 during the program.
URL:https://www.bethesda.org/event/lego-construction-duplo-too-2/2026-07-29/
LOCATION:Connie Morella Library\, 7400 Arlington Road\, Bethesda\, MD\, 20814\, United States
CATEGORIES:Children's Event/Classes
END:VEVENT
END:VCALENDAR