BEGIN:VCALENDAR
VERSION:2.0
PRODID:-//BUP - ECPv6.15.20//NONSGML v1.0//EN
CALSCALE:GREGORIAN
METHOD:PUBLISH
X-WR-CALNAME:BUP
X-ORIGINAL-URL:https://www.bethesda.org
X-WR-CALDESC:Events for BUP
REFRESH-INTERVAL;VALUE=DURATION:PT1H
X-Robots-Tag:noindex
X-PUBLISHED-TTL:PT1H
BEGIN:VTIMEZONE
TZID:America/New_York
BEGIN:DAYLIGHT
TZOFFSETFROM:-0500
TZOFFSETTO:-0400
TZNAME:EDT
DTSTART:20250309T070000
END:DAYLIGHT
BEGIN:STANDARD
TZOFFSETFROM:-0400
TZOFFSETTO:-0500
TZNAME:EST
DTSTART:20251102T060000
END:STANDARD
BEGIN:DAYLIGHT
TZOFFSETFROM:-0500
TZOFFSETTO:-0400
TZNAME:EDT
DTSTART:20260308T070000
END:DAYLIGHT
BEGIN:STANDARD
TZOFFSETFROM:-0400
TZOFFSETTO:-0500
TZNAME:EST
DTSTART:20261101T060000
END:STANDARD
BEGIN:DAYLIGHT
TZOFFSETFROM:-0500
TZOFFSETTO:-0400
TZNAME:EDT
DTSTART:20270314T070000
END:DAYLIGHT
BEGIN:STANDARD
TZOFFSETFROM:-0400
TZOFFSETTO:-0500
TZNAME:EST
DTSTART:20271107T060000
END:STANDARD
END:VTIMEZONE
BEGIN:VEVENT
DTSTART;TZID=America/New_York:20260414T193000
DTEND;TZID=America/New_York:20260414T213000
DTSTAMP:20260424T060307
CREATED:20250318T192758Z
LAST-MODIFIED:20250318T192758Z
UID:10000282-1776195000-1776202200@www.bethesda.org
SUMMARY:Trivia Night @ Caddies on Cordell
DESCRIPTION:Come to Caddies on Cordell every Tuesday at 7:30 PM for Trivia Night. It’s free to play\, and there are gift card prizes for 1st\, 2nd\, and 3rd place teams. Enjoy Happy Hour prices from 3-10 PM\, and half off pizza all day long!
URL:https://www.bethesda.org/event/trivia-night-caddies-on-cordell/2026-04-14/
LOCATION:Caddies on Cordell\, 4922 Cordell Avenue\, Bethesda\, MD\, 20814\, United States
CATEGORIES:Special Event
END:VEVENT
BEGIN:VEVENT
DTSTART;TZID=America/New_York:20260421T193000
DTEND;TZID=America/New_York:20260421T213000
DTSTAMP:20260424T060307
CREATED:20250318T192758Z
LAST-MODIFIED:20250318T192758Z
UID:10000283-1776799800-1776807000@www.bethesda.org
SUMMARY:Trivia Night @ Caddies on Cordell
DESCRIPTION:Come to Caddies on Cordell every Tuesday at 7:30 PM for Trivia Night. It’s free to play\, and there are gift card prizes for 1st\, 2nd\, and 3rd place teams. Enjoy Happy Hour prices from 3-10 PM\, and half off pizza all day long!
URL:https://www.bethesda.org/event/trivia-night-caddies-on-cordell/2026-04-21/
LOCATION:Caddies on Cordell\, 4922 Cordell Avenue\, Bethesda\, MD\, 20814\, United States
CATEGORIES:Special Event
END:VEVENT
BEGIN:VEVENT
DTSTART;VALUE=DATE:20260424
DTEND;VALUE=DATE:20260425
DTSTAMP:20260424T060307
CREATED:20260413T155051Z
LAST-MODIFIED:20260413T155051Z
UID:10001737-1776988800-1777075199@www.bethesda.org
SUMMARY:The Trawick Prize Application Deadline
DESCRIPTION:
URL:https://www.bethesda.org/event/trawick-prize-application-deadline/
LOCATION:MD
CATEGORIES:BUP,Special Event
END:VEVENT
BEGIN:VEVENT
DTSTART;VALUE=DATE:20260425
DTEND;VALUE=DATE:20260426
DTSTAMP:20260424T060307
CREATED:20260422T145046Z
LAST-MODIFIED:20260422T145046Z
UID:10001740-1777075200-1777161599@www.bethesda.org
SUMMARY:2026 Independent Bookstore Crawl
DESCRIPTION:Saturday 4/25 is Independent Bookstore Day\, a day that celebrates independent bookstores and the value they bring to local communities. There are many wonderful indie bookstore in the DMV and MoCo\, and we hope that people will come out and support them on Saturday. There is a bookstore crawl that people can do\, and once they hit 6 bookstores they get a prize. Here is more information\, including the map.
URL:https://www.bethesda.org/event/2026-independent-bookstore-crawl/
LOCATION:Wonderland Books\, 7920B Norfolk Avenue\, Bethesda\, MD\, 20814\, United States
CATEGORIES:Special Event
END:VEVENT
BEGIN:VEVENT
DTSTART;TZID=America/New_York:20260428T193000
DTEND;TZID=America/New_York:20260428T213000
DTSTAMP:20260424T060307
CREATED:20250318T192758Z
LAST-MODIFIED:20250318T192758Z
UID:10000284-1777404600-1777411800@www.bethesda.org
SUMMARY:Trivia Night @ Caddies on Cordell
DESCRIPTION:Come to Caddies on Cordell every Tuesday at 7:30 PM for Trivia Night. It’s free to play\, and there are gift card prizes for 1st\, 2nd\, and 3rd place teams. Enjoy Happy Hour prices from 3-10 PM\, and half off pizza all day long!
URL:https://www.bethesda.org/event/trivia-night-caddies-on-cordell/2026-04-28/
LOCATION:Caddies on Cordell\, 4922 Cordell Avenue\, Bethesda\, MD\, 20814\, United States
CATEGORIES:Special Event
END:VEVENT
BEGIN:VEVENT
DTSTART;TZID=America/New_York:20260509T100000
DTEND;TZID=America/New_York:20260509T180000
DTSTAMP:20260424T060307
CREATED:20260319T143920Z
LAST-MODIFIED:20260319T143920Z
UID:10001735-1778320800-1778349600@www.bethesda.org
SUMMARY:Bethesda Fine Arts Festival
DESCRIPTION:The Bethesda Fine Arts Festival features 110+ booths of the nation’s best fine arts and fine crafts.
URL:https://www.bethesda.org/event/bethesda-fine-arts-festival-2/2026-05-09/
LOCATION:Woodmont Triangle\, Corner of Norfolk & Auburn Aves
CATEGORIES:BUP,Special Event
END:VEVENT
BEGIN:VEVENT
DTSTART;TZID=America/New_York:20260510T100000
DTEND;TZID=America/New_York:20260510T170000
DTSTAMP:20260424T060307
CREATED:20260319T143920Z
LAST-MODIFIED:20260319T143920Z
UID:10001736-1778407200-1778432400@www.bethesda.org
SUMMARY:Bethesda Fine Arts Festival
DESCRIPTION:The Bethesda Fine Arts Festival features 110+ booths of the nation’s best fine arts and fine crafts.
URL:https://www.bethesda.org/event/bethesda-fine-arts-festival-2/2026-05-10/
LOCATION:Woodmont Triangle\, Corner of Norfolk & Auburn Aves
CATEGORIES:BUP,Special Event
END:VEVENT
BEGIN:VEVENT
DTSTART;TZID=America/New_York:20260523T100000
DTEND;TZID=America/New_York:20260523T160000
DTSTAMP:20260424T060307
CREATED:20260414T173412Z
LAST-MODIFIED:20260414T173412Z
UID:10001739-1779530400-1779552000@www.bethesda.org
SUMMARY:NCAGG Outdoor Market
DESCRIPTION:The NCAGG will hold an Outdoor Market on Saturday\, May 23 from 10am – 4pm. Held on the plaza outside Gallery B\, the market will be a one-day sale event featuring the guild members’ works.
URL:https://www.bethesda.org/event/ncagg-outdoor-market/
LOCATION:Gallery B\, 7700 Wisconsin Avenue\, Bethesda\, MD\, 20814\, United States
CATEGORIES:Special Event
END:VEVENT
END:VCALENDAR