BEGIN:VCALENDAR
VERSION:2.0
PRODID:-//BUP - ECPv6.15.20//NONSGML v1.0//EN
CALSCALE:GREGORIAN
METHOD:PUBLISH
X-WR-CALNAME:BUP
X-ORIGINAL-URL:https://www.bethesda.org
X-WR-CALDESC:Events for BUP
REFRESH-INTERVAL;VALUE=DURATION:PT1H
X-Robots-Tag:noindex
X-PUBLISHED-TTL:PT1H
BEGIN:VTIMEZONE
TZID:America/New_York
BEGIN:DAYLIGHT
TZOFFSETFROM:-0500
TZOFFSETTO:-0400
TZNAME:EDT
DTSTART:20240310T070000
END:DAYLIGHT
BEGIN:STANDARD
TZOFFSETFROM:-0400
TZOFFSETTO:-0500
TZNAME:EST
DTSTART:20241103T060000
END:STANDARD
BEGIN:DAYLIGHT
TZOFFSETFROM:-0500
TZOFFSETTO:-0400
TZNAME:EDT
DTSTART:20250309T070000
END:DAYLIGHT
BEGIN:STANDARD
TZOFFSETFROM:-0400
TZOFFSETTO:-0500
TZNAME:EST
DTSTART:20251102T060000
END:STANDARD
BEGIN:DAYLIGHT
TZOFFSETFROM:-0500
TZOFFSETTO:-0400
TZNAME:EDT
DTSTART:20260308T070000
END:DAYLIGHT
BEGIN:STANDARD
TZOFFSETFROM:-0400
TZOFFSETTO:-0500
TZNAME:EST
DTSTART:20261101T060000
END:STANDARD
BEGIN:DAYLIGHT
TZOFFSETFROM:-0500
TZOFFSETTO:-0400
TZNAME:EDT
DTSTART:20270314T070000
END:DAYLIGHT
BEGIN:STANDARD
TZOFFSETFROM:-0400
TZOFFSETTO:-0500
TZNAME:EST
DTSTART:20271107T060000
END:STANDARD
END:VTIMEZONE
BEGIN:VEVENT
DTSTART;VALUE=DATE:20251203
DTEND;VALUE=DATE:20260105
DTSTAMP:20260421T224126
CREATED:20250827T154646Z
LAST-MODIFIED:20250827T154646Z
UID:10000637-1764720000-1767571199@www.bethesda.org
SUMMARY:Rules for Living
DESCRIPTION:A “raucous\, unbridled” (The Guardian) hit at London’s National Theatre\, Rules for Living has its American premiere at Round House this holiday season! The holidays are all about family\, but what happens when long-standing tensions\, buried resentments\, and hilariously disastrous coping mechanisms collide at Christmas dinner? In this inventive\, high-energy comedy\, the internal rules that the characters live by become visible\, turning every awkward pause\, biting remark\, and outburst into a brilliantly choreographed meltdown. Wickedly funny and all too relatable\, this is one family holiday gathering you won’t want to miss.
URL:https://www.bethesda.org/event/rules-for-living/
LOCATION:Round House Theatre
CATEGORIES:Live Performance
END:VEVENT
END:VCALENDAR