BEGIN:VCALENDAR
VERSION:2.0
PRODID:-//BUP - ECPv6.15.20//NONSGML v1.0//EN
CALSCALE:GREGORIAN
METHOD:PUBLISH
X-WR-CALNAME:BUP
X-ORIGINAL-URL:https://www.bethesda.org
X-WR-CALDESC:Events for BUP
REFRESH-INTERVAL;VALUE=DURATION:PT1H
X-Robots-Tag:noindex
X-PUBLISHED-TTL:PT1H
BEGIN:VTIMEZONE
TZID:America/New_York
BEGIN:DAYLIGHT
TZOFFSETFROM:-0500
TZOFFSETTO:-0400
TZNAME:EDT
DTSTART:20250309T070000
END:DAYLIGHT
BEGIN:STANDARD
TZOFFSETFROM:-0400
TZOFFSETTO:-0500
TZNAME:EST
DTSTART:20251102T060000
END:STANDARD
BEGIN:DAYLIGHT
TZOFFSETFROM:-0500
TZOFFSETTO:-0400
TZNAME:EDT
DTSTART:20260308T070000
END:DAYLIGHT
BEGIN:STANDARD
TZOFFSETFROM:-0400
TZOFFSETTO:-0500
TZNAME:EST
DTSTART:20261101T060000
END:STANDARD
BEGIN:DAYLIGHT
TZOFFSETFROM:-0500
TZOFFSETTO:-0400
TZNAME:EDT
DTSTART:20270314T070000
END:DAYLIGHT
BEGIN:STANDARD
TZOFFSETFROM:-0400
TZOFFSETTO:-0500
TZNAME:EST
DTSTART:20271107T060000
END:STANDARD
END:VTIMEZONE
BEGIN:VEVENT
DTSTART;VALUE=DATE:20260211
DTEND;VALUE=DATE:20260316
DTSTAMP:20260421T080447
CREATED:20250827T154913Z
LAST-MODIFIED:20250827T154913Z
UID:10000638-1770768000-1773619199@www.bethesda.org
SUMMARY:Nothing Up My Sleeve
DESCRIPTION:Master illusionist Dendy and acclaimed playwright/director Aaron Posner reunite after their smash-hit collaboration on The Tempest for a spellbinding new one-man show. Part dazzling magic act\, part deeply personal journey\, Nothing Up My Sleeve pulls back the curtain on the history of magic while exploring Dendy’s own path to becoming a magician. Prepare to be amazed\, inspired\, and transported into a world where the impossible becomes reality. Featuring captivating storytelling\, jaw-dropping tricks\, and mind-bending surprises\, this exhilarating experience will leave audiences believing in magic again.
URL:https://www.bethesda.org/event/nothing-up-my-sleeve/
LOCATION:Round House Theatre
CATEGORIES:Live Performance
END:VEVENT
BEGIN:VEVENT
DTSTART;VALUE=DATE:20260211
DTEND;VALUE=DATE:20260316
DTSTAMP:20260421T080447
CREATED:20260224T152615Z
LAST-MODIFIED:20260224T152615Z
UID:10001694-1770768000-1773619199@www.bethesda.org
SUMMARY:Bonnie Hammerschlag National Capital New Play Festival
DESCRIPTION:Round House Theatre is proud to present the fifth Bonnie Hammerschlag National Capital New Play Festival\, an annual event celebrating new work by some of the country’s leading playwrights and newer voices. In addition to a fully staged world premiere (part of Round House’s main stage season)\, audiences are invited to readings of plays in development\, where they can sit alongside dramaturgs\, directors\, and other theatre professionals for an inside look into a play’s journey to the stage.
URL:https://www.bethesda.org/event/bonnie-hammerschlag-national-capital-new-play-festival/
LOCATION:Round House Theatre
CATEGORIES:Live Performance
END:VEVENT
BEGIN:VEVENT
DTSTART;TZID=America/New_York:20260327T193000
DTEND;TZID=America/New_York:20260327T213000
DTSTAMP:20260421T080447
CREATED:20260224T152801Z
LAST-MODIFIED:20260224T152801Z
UID:10001695-1774639800-1774647000@www.bethesda.org
SUMMARY:At the End of the World
DESCRIPTION:When the world is burning around you\, who do you want to be? In the wake of an apocalypse\, groups of teenagers discuss and explore their fears\, hopes\, and wishes in a desolate new world. Commissioned specifically for the Round House Theatre Teen Performance Company\, At the End of the World rages against injustice and violence\, while honoring the power of community\, friendship\, and taking action. \n\nThe Round House Theatre Teen Performance Company is a pre-professional program for the next generation of theatre artists. Round House gathers the region’s most creative young theatre artists and provides mentorship to them as they work on a play at our theatre. Selected students shadow productions on the Round House stage\, attend events and master classes with Round House company members\, and work closely with professional artists and practitioners at every step of the process. \nThe program culminates in The Sarah Metzger Memorial Play\, which is directed\, designed\, stage managed\, and performed by high school students. The Sarah Metzger Memorial Play was established by the Metzger family and friends to celebrate the memory of Sarah Metzger\, an inspiring and active member of the theatre community\, who was killed in an automobile accident during her freshman year of college.
URL:https://www.bethesda.org/event/at-end-of-world/2026-03-27/
LOCATION:Round House Theatre
CATEGORIES:Live Performance
END:VEVENT
BEGIN:VEVENT
DTSTART;TZID=America/New_York:20260328T140000
DTEND;TZID=America/New_York:20260328T160000
DTSTAMP:20260421T080447
CREATED:20260224T152900Z
LAST-MODIFIED:20260224T152900Z
UID:10001698-1774706400-1774713600@www.bethesda.org
SUMMARY:The Roundlings Present: Mission Improv-ible
DESCRIPTION:The Roundlings are Round House Theatre’s teen comedy ensemble. These whimsical wits write and develop their own original comedy sketches\, song parodies\, and stand-up comedy. They also thrive while performing short-form improvisation games and long-form improvised scenes. Their new show features audience interactivity\, spontaneous silliness\, and hopefully…a lot of laughs.
URL:https://www.bethesda.org/event/roundlings-present-mission-improv-ible/
LOCATION:Round House Theatre
CATEGORIES:Live Performance
END:VEVENT
BEGIN:VEVENT
DTSTART;TZID=America/New_York:20260328T200000
DTEND;TZID=America/New_York:20260328T220000
DTSTAMP:20260421T080447
CREATED:20260224T152801Z
LAST-MODIFIED:20260224T152801Z
UID:10001696-1774728000-1774735200@www.bethesda.org
SUMMARY:At the End of the World
DESCRIPTION:When the world is burning around you\, who do you want to be? In the wake of an apocalypse\, groups of teenagers discuss and explore their fears\, hopes\, and wishes in a desolate new world. Commissioned specifically for the Round House Theatre Teen Performance Company\, At the End of the World rages against injustice and violence\, while honoring the power of community\, friendship\, and taking action. \n\nThe Round House Theatre Teen Performance Company is a pre-professional program for the next generation of theatre artists. Round House gathers the region’s most creative young theatre artists and provides mentorship to them as they work on a play at our theatre. Selected students shadow productions on the Round House stage\, attend events and master classes with Round House company members\, and work closely with professional artists and practitioners at every step of the process. \nThe program culminates in The Sarah Metzger Memorial Play\, which is directed\, designed\, stage managed\, and performed by high school students. The Sarah Metzger Memorial Play was established by the Metzger family and friends to celebrate the memory of Sarah Metzger\, an inspiring and active member of the theatre community\, who was killed in an automobile accident during her freshman year of college.
URL:https://www.bethesda.org/event/at-end-of-world/2026-03-28/
LOCATION:Round House Theatre
CATEGORIES:Live Performance
END:VEVENT
BEGIN:VEVENT
DTSTART;TZID=America/New_York:20260329T140000
DTEND;TZID=America/New_York:20260329T160000
DTSTAMP:20260421T080447
CREATED:20260224T152801Z
LAST-MODIFIED:20260224T152801Z
UID:10001697-1774792800-1774800000@www.bethesda.org
SUMMARY:At the End of the World
DESCRIPTION:When the world is burning around you\, who do you want to be? In the wake of an apocalypse\, groups of teenagers discuss and explore their fears\, hopes\, and wishes in a desolate new world. Commissioned specifically for the Round House Theatre Teen Performance Company\, At the End of the World rages against injustice and violence\, while honoring the power of community\, friendship\, and taking action. \n\nThe Round House Theatre Teen Performance Company is a pre-professional program for the next generation of theatre artists. Round House gathers the region’s most creative young theatre artists and provides mentorship to them as they work on a play at our theatre. Selected students shadow productions on the Round House stage\, attend events and master classes with Round House company members\, and work closely with professional artists and practitioners at every step of the process. \nThe program culminates in The Sarah Metzger Memorial Play\, which is directed\, designed\, stage managed\, and performed by high school students. The Sarah Metzger Memorial Play was established by the Metzger family and friends to celebrate the memory of Sarah Metzger\, an inspiring and active member of the theatre community\, who was killed in an automobile accident during her freshman year of college.
URL:https://www.bethesda.org/event/at-end-of-world/2026-03-29/
LOCATION:Round House Theatre
CATEGORIES:Live Performance
END:VEVENT
END:VCALENDAR