BEGIN:VCALENDAR
VERSION:2.0
PRODID:-//BUP - ECPv6.15.20//NONSGML v1.0//EN
CALSCALE:GREGORIAN
METHOD:PUBLISH
X-WR-CALNAME:BUP
X-ORIGINAL-URL:https://www.bethesda.org
X-WR-CALDESC:Events for BUP
REFRESH-INTERVAL;VALUE=DURATION:PT1H
X-Robots-Tag:noindex
X-PUBLISHED-TTL:PT1H
BEGIN:VTIMEZONE
TZID:America/New_York
BEGIN:DAYLIGHT
TZOFFSETFROM:-0500
TZOFFSETTO:-0400
TZNAME:EDT
DTSTART:20240310T070000
END:DAYLIGHT
BEGIN:STANDARD
TZOFFSETFROM:-0400
TZOFFSETTO:-0500
TZNAME:EST
DTSTART:20241103T060000
END:STANDARD
BEGIN:DAYLIGHT
TZOFFSETFROM:-0500
TZOFFSETTO:-0400
TZNAME:EDT
DTSTART:20250309T070000
END:DAYLIGHT
BEGIN:STANDARD
TZOFFSETFROM:-0400
TZOFFSETTO:-0500
TZNAME:EST
DTSTART:20251102T060000
END:STANDARD
BEGIN:DAYLIGHT
TZOFFSETFROM:-0500
TZOFFSETTO:-0400
TZNAME:EDT
DTSTART:20260308T070000
END:DAYLIGHT
BEGIN:STANDARD
TZOFFSETFROM:-0400
TZOFFSETTO:-0500
TZNAME:EST
DTSTART:20261101T060000
END:STANDARD
END:VTIMEZONE
BEGIN:VEVENT
DTSTART;VALUE=DATE:20250827
DTEND;VALUE=DATE:20251020
DTSTAMP:20260424T075323
CREATED:20250827T154340Z
LAST-MODIFIED:20250827T154743Z
UID:10000636-1756252800-1760918399@www.bethesda.org
SUMMARY:The Inheritance Parts One & Two
DESCRIPTION:Round House Theatre proudly presents The Inheritance—the most awarded play of our generation— performed in a breathtaking two-part theatrical event. Winner of the Tony\, Olivier\, Drama Desk\, Critics’ Circle\, Evening Standard\, and Drama League Awards for Best Play\, Matthew López’s epic masterpiece instantly became a modern classic. Hailed as “a vast\, heartfelt\, and hugely ambitious” (The Guardian) work\, The Inheritance follows a group of young gay men in New York as they wrestle with love\, legacy\, and the shadow of the AIDS crisis. Deeply moving and bitingly funny\, this unforgettable production asks: What do we owe those who came before us\, and what will we leave behind? Presented in repertory\, Parts One and Two create an extraordinary\, once-in-a-lifetime experience. “The most important American play of the century so far” (The Telegraph)\, The Inheritance is more than a play—it’s an event that will stay with you forever. \n**Please note that The Inheritance consists of two separate plays** \nFor a full schedule\, CLICK HERE. 
URL:https://www.bethesda.org/event/inheritance-parts-one-two/
LOCATION:Round House Theatre
CATEGORIES:Live Performance
END:VEVENT
BEGIN:VEVENT
DTSTART;TZID=America/New_York:20251010T193000
DTEND;TZID=America/New_York:20251010T210000
DTSTAMP:20260424T075323
CREATED:20250924T174041Z
LAST-MODIFIED:20250924T174041Z
UID:10000652-1760124600-1760130000@www.bethesda.org
SUMMARY:Homes Not Borders | Storytelling Show
DESCRIPTION:Featuring six true stories shared by forced migrants\, offering moving perspectives on starting new lives here.
URL:https://www.bethesda.org/event/homes-not-borders-storytelling-show/
LOCATION:Imagination Stage\, 4908 Auburn Avenue\, Bethesda\, MD\, 20814\, United States
CATEGORIES:Live Performance
END:VEVENT
BEGIN:VEVENT
DTSTART;TZID=America/New_York:20251010T200000
DTEND;TZID=America/New_York:20251010T213000
DTSTAMP:20260424T075323
CREATED:20250924T174705Z
LAST-MODIFIED:20250924T174705Z
UID:10000655-1760126400-1760131800@www.bethesda.org
SUMMARY:French Cupcakes\, An Original Musical
DESCRIPTION:French Cupcakes is more than a legendary café-bakery in this Midwest college town: it’s a place of dreams. Café manager/grad student Tina dreams of becoming a diplomat. House musician Nick dreams of becoming a country music star. Second year MBA student Bridget dreams of becoming a Wall Street titan. Baristas dream of becoming Cancan dancers in Paris. And café owner Pierre dreams of selling his shop and retiring along the French Riviera. When Pierre puts his dream into action\, the others scramble to adjust their own dreams. Dreams ruined\, dreams deferred\, dreams realized: French Cupcakes explores the twists and turns of our desires that fuel this thing called life. \nFrench Cupcakes is a two act original musical by local composer Neal Learner. This show runs – October 10\, 11\, 17\, and 18 at 8 PM and October 12th and 19th at 2:30 PM. General Admission: $29.81\, Senior and Military $23.53\, 12 and under $19.35
URL:https://www.bethesda.org/event/french-cupcakes-an-original-musical/2025-10-10/
LOCATION:The Writer’s Center\, 4508 Walsh Street\, Bethesda\, MD\, 20815\, United States
CATEGORIES:Live Performance
END:VEVENT
BEGIN:VEVENT
DTSTART;TZID=America/New_York:20251011T200000
DTEND;TZID=America/New_York:20251011T213000
DTSTAMP:20260424T075323
CREATED:20250924T174705Z
LAST-MODIFIED:20250924T174705Z
UID:10000656-1760212800-1760218200@www.bethesda.org
SUMMARY:French Cupcakes\, An Original Musical
DESCRIPTION:French Cupcakes is more than a legendary café-bakery in this Midwest college town: it’s a place of dreams. Café manager/grad student Tina dreams of becoming a diplomat. House musician Nick dreams of becoming a country music star. Second year MBA student Bridget dreams of becoming a Wall Street titan. Baristas dream of becoming Cancan dancers in Paris. And café owner Pierre dreams of selling his shop and retiring along the French Riviera. When Pierre puts his dream into action\, the others scramble to adjust their own dreams. Dreams ruined\, dreams deferred\, dreams realized: French Cupcakes explores the twists and turns of our desires that fuel this thing called life. \nFrench Cupcakes is a two act original musical by local composer Neal Learner. This show runs – October 10\, 11\, 17\, and 18 at 8 PM and October 12th and 19th at 2:30 PM. General Admission: $29.81\, Senior and Military $23.53\, 12 and under $19.35
URL:https://www.bethesda.org/event/french-cupcakes-an-original-musical/2025-10-11/
LOCATION:The Writer’s Center\, 4508 Walsh Street\, Bethesda\, MD\, 20815\, United States
CATEGORIES:Live Performance
END:VEVENT
BEGIN:VEVENT
DTSTART;TZID=America/New_York:20251012T143000
DTEND;TZID=America/New_York:20251012T160000
DTSTAMP:20260424T075323
CREATED:20250924T174705Z
LAST-MODIFIED:20250924T174705Z
UID:10000657-1760279400-1760284800@www.bethesda.org
SUMMARY:French Cupcakes\, An Original Musical
DESCRIPTION:French Cupcakes is more than a legendary café-bakery in this Midwest college town: it’s a place of dreams. Café manager/grad student Tina dreams of becoming a diplomat. House musician Nick dreams of becoming a country music star. Second year MBA student Bridget dreams of becoming a Wall Street titan. Baristas dream of becoming Cancan dancers in Paris. And café owner Pierre dreams of selling his shop and retiring along the French Riviera. When Pierre puts his dream into action\, the others scramble to adjust their own dreams. Dreams ruined\, dreams deferred\, dreams realized: French Cupcakes explores the twists and turns of our desires that fuel this thing called life. \nFrench Cupcakes is a two act original musical by local composer Neal Learner. This show runs – October 10\, 11\, 17\, and 18 at 8 PM and October 12th and 19th at 2:30 PM. General Admission: $29.81\, Senior and Military $23.53\, 12 and under $19.35
URL:https://www.bethesda.org/event/french-cupcakes-an-original-musical/2025-10-12/
LOCATION:The Writer’s Center\, 4508 Walsh Street\, Bethesda\, MD\, 20815\, United States
CATEGORIES:Live Performance
END:VEVENT
BEGIN:VEVENT
DTSTART;TZID=America/New_York:20251017T200000
DTEND;TZID=America/New_York:20251017T213000
DTSTAMP:20260424T075323
CREATED:20250924T174705Z
LAST-MODIFIED:20250924T174705Z
UID:10000658-1760731200-1760736600@www.bethesda.org
SUMMARY:French Cupcakes\, An Original Musical
DESCRIPTION:French Cupcakes is more than a legendary café-bakery in this Midwest college town: it’s a place of dreams. Café manager/grad student Tina dreams of becoming a diplomat. House musician Nick dreams of becoming a country music star. Second year MBA student Bridget dreams of becoming a Wall Street titan. Baristas dream of becoming Cancan dancers in Paris. And café owner Pierre dreams of selling his shop and retiring along the French Riviera. When Pierre puts his dream into action\, the others scramble to adjust their own dreams. Dreams ruined\, dreams deferred\, dreams realized: French Cupcakes explores the twists and turns of our desires that fuel this thing called life. \nFrench Cupcakes is a two act original musical by local composer Neal Learner. This show runs – October 10\, 11\, 17\, and 18 at 8 PM and October 12th and 19th at 2:30 PM. General Admission: $29.81\, Senior and Military $23.53\, 12 and under $19.35
URL:https://www.bethesda.org/event/french-cupcakes-an-original-musical/2025-10-17/
LOCATION:The Writer’s Center\, 4508 Walsh Street\, Bethesda\, MD\, 20815\, United States
CATEGORIES:Live Performance
END:VEVENT
BEGIN:VEVENT
DTSTART;TZID=America/New_York:20251018T200000
DTEND;TZID=America/New_York:20251018T213000
DTSTAMP:20260424T075323
CREATED:20250924T174705Z
LAST-MODIFIED:20250924T174705Z
UID:10000659-1760817600-1760823000@www.bethesda.org
SUMMARY:French Cupcakes\, An Original Musical
DESCRIPTION:French Cupcakes is more than a legendary café-bakery in this Midwest college town: it’s a place of dreams. Café manager/grad student Tina dreams of becoming a diplomat. House musician Nick dreams of becoming a country music star. Second year MBA student Bridget dreams of becoming a Wall Street titan. Baristas dream of becoming Cancan dancers in Paris. And café owner Pierre dreams of selling his shop and retiring along the French Riviera. When Pierre puts his dream into action\, the others scramble to adjust their own dreams. Dreams ruined\, dreams deferred\, dreams realized: French Cupcakes explores the twists and turns of our desires that fuel this thing called life. \nFrench Cupcakes is a two act original musical by local composer Neal Learner. This show runs – October 10\, 11\, 17\, and 18 at 8 PM and October 12th and 19th at 2:30 PM. General Admission: $29.81\, Senior and Military $23.53\, 12 and under $19.35
URL:https://www.bethesda.org/event/french-cupcakes-an-original-musical/2025-10-18/
LOCATION:The Writer’s Center\, 4508 Walsh Street\, Bethesda\, MD\, 20815\, United States
CATEGORIES:Live Performance
END:VEVENT
BEGIN:VEVENT
DTSTART;TZID=America/New_York:20251019T143000
DTEND;TZID=America/New_York:20251019T160000
DTSTAMP:20260424T075323
CREATED:20250924T174705Z
LAST-MODIFIED:20250924T174705Z
UID:10000660-1760884200-1760889600@www.bethesda.org
SUMMARY:French Cupcakes\, An Original Musical
DESCRIPTION:French Cupcakes is more than a legendary café-bakery in this Midwest college town: it’s a place of dreams. Café manager/grad student Tina dreams of becoming a diplomat. House musician Nick dreams of becoming a country music star. Second year MBA student Bridget dreams of becoming a Wall Street titan. Baristas dream of becoming Cancan dancers in Paris. And café owner Pierre dreams of selling his shop and retiring along the French Riviera. When Pierre puts his dream into action\, the others scramble to adjust their own dreams. Dreams ruined\, dreams deferred\, dreams realized: French Cupcakes explores the twists and turns of our desires that fuel this thing called life. \nFrench Cupcakes is a two act original musical by local composer Neal Learner. This show runs – October 10\, 11\, 17\, and 18 at 8 PM and October 12th and 19th at 2:30 PM. General Admission: $29.81\, Senior and Military $23.53\, 12 and under $19.35
URL:https://www.bethesda.org/event/french-cupcakes-an-original-musical/2025-10-19/
LOCATION:The Writer’s Center\, 4508 Walsh Street\, Bethesda\, MD\, 20815\, United States
CATEGORIES:Live Performance
END:VEVENT
END:VCALENDAR