BEGIN:VCALENDAR
VERSION:2.0
PRODID:-//BUP - ECPv6.15.20//NONSGML v1.0//EN
CALSCALE:GREGORIAN
METHOD:PUBLISH
X-WR-CALNAME:BUP
X-ORIGINAL-URL:https://www.bethesda.org
X-WR-CALDESC:Events for BUP
REFRESH-INTERVAL;VALUE=DURATION:PT1H
X-Robots-Tag:noindex
X-PUBLISHED-TTL:PT1H
BEGIN:VTIMEZONE
TZID:America/New_York
BEGIN:DAYLIGHT
TZOFFSETFROM:-0500
TZOFFSETTO:-0400
TZNAME:EDT
DTSTART:20240310T070000
END:DAYLIGHT
BEGIN:STANDARD
TZOFFSETFROM:-0400
TZOFFSETTO:-0500
TZNAME:EST
DTSTART:20241103T060000
END:STANDARD
BEGIN:DAYLIGHT
TZOFFSETFROM:-0500
TZOFFSETTO:-0400
TZNAME:EDT
DTSTART:20250309T070000
END:DAYLIGHT
BEGIN:STANDARD
TZOFFSETFROM:-0400
TZOFFSETTO:-0500
TZNAME:EST
DTSTART:20251102T060000
END:STANDARD
BEGIN:DAYLIGHT
TZOFFSETFROM:-0500
TZOFFSETTO:-0400
TZNAME:EDT
DTSTART:20260308T070000
END:DAYLIGHT
BEGIN:STANDARD
TZOFFSETFROM:-0400
TZOFFSETTO:-0500
TZNAME:EST
DTSTART:20261101T060000
END:STANDARD
END:VTIMEZONE
BEGIN:VEVENT
DTSTART;VALUE=DATE:20250913
DTEND;VALUE=DATE:20251206
DTSTAMP:20260422T184650
CREATED:20250814T200818Z
LAST-MODIFIED:20250814T200818Z
UID:10000517-1757721600-1764979199@www.bethesda.org
SUMMARY:Women Artists of the DMV at The Writer's Center
DESCRIPTION:The largest ever-curated fine arts multi-venue show in the U.S. comes this Fall to 16 art venues around the Greater Washington\, DC capital region as curator Florencio Lennox Campello surveys over 400 female artists actively working around the DMV. \nLocations:  \nName Opening Reception Exhibition Dates \nJoan Hisaoka Healing Arts Gallery\, Washington\, DC 29 Aug 25 29 Aug – 28 Sep\, 2025 \nArtists & Makers\, Rockville\, MD 5 Sep & 3 Oct 25 4 Sep – 29 Oct\, 2025 \nAmerican University Museum at Katzen Center 6 Sep 25 6 Sep – 7 Dec\, 2025 \nAdah Rose Gallery\, Rockville\, MD 7 Sep 25 7 Sep – 28 Sep\, 2025 \nUniversities at Shady Grove Priddy Library\, Rockville\, MD 11 Sep 25 11 Sep – 31 Oct\, 2025 \nThe Writer’s Center\, Bethesda\, MD 13 Sep 25 13 Sep – 5 Dec\, 2025 \nPyramid Atlantic Arts Center\, Hyattsville\, MD 13 Sep 25 13 Sep – 2 Nov\, 2025 \nMcLean Project for the Arts\, McLean\, VA 18 Sep 25 11 Sep – 1 Nov 2025 \nUniversity of Maryland Library\, College Park\, MD 19 Sep 25 15 Sep – 23 Oct\, 2025 \nMontpelier Arts Center\, Laurel\, MD 19 Sep 25 11 Sep – 2 Nov\, 2025 \nThe Athenaeum\, Alexandria\, VA 28 Sep 25 Sep 25 – Nov 2\, 2025 \nChildren’s National Hospital Gallery\, Washington\, DC TBA Sep 1 Sep – 9 Jan 2026 \nStrathmore Mansion\, North Bethesda\, MD 4 Oct 25 4 Oct – 8 Nov 2025 \nMaryland Hall\, Annapolis\, MD 8 Oct 25 4 Oct – 18 Dec\, 2025 \nMelissa Ichiuji Gallery\, Front Royal\, VA 18 Oct 25 18 Oct – 7 Dec\, 2025 \nNepenthe Gallery\, Alexandria\, VA TBA TBA \nAbout the exhibitions: Featuring the work of over 400 women artists from the Greater Washington\, DC capital region\, this massive survey exhibition is curated by Florencio Lennox Campello\, whose curatorial background includes over 200 exhibitions over the past four decades. “This region is not only home to some of the best art museums in the world\, dozens of commercial art galleries\, non-profit art spaces\, alternative art venues\, embassy art spaces\, etc.\, but it also supports and fertilizes some of the most unique and creative visual art scenes in the nation\,” notes Campello.
URL:https://www.bethesda.org/event/women-artists-of-dmv-at-writers-center/
LOCATION:The Writer’s Center\, 4508 Walsh Street\, Bethesda\, MD\, 20815\, United States
CATEGORIES:Exhibit
END:VEVENT
BEGIN:VEVENT
DTSTART;TZID=America/New_York:20251204T120000
DTEND;TZID=America/New_York:20251204T180000
DTSTAMP:20260422T184650
CREATED:20251211T202505Z
LAST-MODIFIED:20251211T202505Z
UID:10001585-1764849600-1764871200@www.bethesda.org
SUMMARY:Waverly Street Gallery Annual Holiday Show
DESCRIPTION:Visit Waverly Street Gallery for the Annual Holiday Show by Waverly Street artists!
URL:https://www.bethesda.org/event/waverly-street-gallery-annual-holiday-show/2025-12-04/
LOCATION:Waverly Street Gallery\, 4600 East West Highway\, Bethesda\, MD\, 20814\, United States
CATEGORIES:Exhibit
END:VEVENT
BEGIN:VEVENT
DTSTART;TZID=America/New_York:20251205T120000
DTEND;TZID=America/New_York:20251205T180000
DTSTAMP:20260422T184650
CREATED:20251211T202505Z
LAST-MODIFIED:20251211T202505Z
UID:10001586-1764936000-1764957600@www.bethesda.org
SUMMARY:Waverly Street Gallery Annual Holiday Show
DESCRIPTION:Visit Waverly Street Gallery for the Annual Holiday Show by Waverly Street artists!
URL:https://www.bethesda.org/event/waverly-street-gallery-annual-holiday-show/2025-12-05/
LOCATION:Waverly Street Gallery\, 4600 East West Highway\, Bethesda\, MD\, 20814\, United States
CATEGORIES:Exhibit
END:VEVENT
BEGIN:VEVENT
DTSTART;TZID=America/New_York:20251206T120000
DTEND;TZID=America/New_York:20251206T180000
DTSTAMP:20260422T184650
CREATED:20251211T202505Z
LAST-MODIFIED:20251211T202505Z
UID:10001587-1765022400-1765044000@www.bethesda.org
SUMMARY:Waverly Street Gallery Annual Holiday Show
DESCRIPTION:Visit Waverly Street Gallery for the Annual Holiday Show by Waverly Street artists!
URL:https://www.bethesda.org/event/waverly-street-gallery-annual-holiday-show/2025-12-06/
LOCATION:Waverly Street Gallery\, 4600 East West Highway\, Bethesda\, MD\, 20814\, United States
CATEGORIES:Exhibit
END:VEVENT
BEGIN:VEVENT
DTSTART;TZID=America/New_York:20251207T120000
DTEND;TZID=America/New_York:20251207T180000
DTSTAMP:20260422T184650
CREATED:20251211T202505Z
LAST-MODIFIED:20251211T202505Z
UID:10001588-1765108800-1765130400@www.bethesda.org
SUMMARY:Waverly Street Gallery Annual Holiday Show
DESCRIPTION:Visit Waverly Street Gallery for the Annual Holiday Show by Waverly Street artists!
URL:https://www.bethesda.org/event/waverly-street-gallery-annual-holiday-show/2025-12-07/
LOCATION:Waverly Street Gallery\, 4600 East West Highway\, Bethesda\, MD\, 20814\, United States
CATEGORIES:Exhibit
END:VEVENT
BEGIN:VEVENT
DTSTART;TZID=America/New_York:20251211T120000
DTEND;TZID=America/New_York:20251211T180000
DTSTAMP:20260422T184650
CREATED:20251211T202505Z
LAST-MODIFIED:20251211T202505Z
UID:10001589-1765454400-1765476000@www.bethesda.org
SUMMARY:Waverly Street Gallery Annual Holiday Show
DESCRIPTION:Visit Waverly Street Gallery for the Annual Holiday Show by Waverly Street artists!
URL:https://www.bethesda.org/event/waverly-street-gallery-annual-holiday-show/2025-12-11/
LOCATION:Waverly Street Gallery\, 4600 East West Highway\, Bethesda\, MD\, 20814\, United States
CATEGORIES:Exhibit
END:VEVENT
BEGIN:VEVENT
DTSTART;TZID=America/New_York:20251212T120000
DTEND;TZID=America/New_York:20251212T180000
DTSTAMP:20260422T184650
CREATED:20251211T202505Z
LAST-MODIFIED:20251211T202505Z
UID:10001590-1765540800-1765562400@www.bethesda.org
SUMMARY:Waverly Street Gallery Annual Holiday Show
DESCRIPTION:Visit Waverly Street Gallery for the Annual Holiday Show by Waverly Street artists!
URL:https://www.bethesda.org/event/waverly-street-gallery-annual-holiday-show/2025-12-12/
LOCATION:Waverly Street Gallery\, 4600 East West Highway\, Bethesda\, MD\, 20814\, United States
CATEGORIES:Exhibit
END:VEVENT
BEGIN:VEVENT
DTSTART;TZID=America/New_York:20251213T120000
DTEND;TZID=America/New_York:20251213T180000
DTSTAMP:20260422T184650
CREATED:20251211T202505Z
LAST-MODIFIED:20251211T202505Z
UID:10001591-1765627200-1765648800@www.bethesda.org
SUMMARY:Waverly Street Gallery Annual Holiday Show
DESCRIPTION:Visit Waverly Street Gallery for the Annual Holiday Show by Waverly Street artists!
URL:https://www.bethesda.org/event/waverly-street-gallery-annual-holiday-show/2025-12-13/
LOCATION:Waverly Street Gallery\, 4600 East West Highway\, Bethesda\, MD\, 20814\, United States
CATEGORIES:Exhibit
END:VEVENT
BEGIN:VEVENT
DTSTART;TZID=America/New_York:20251214T120000
DTEND;TZID=America/New_York:20251214T180000
DTSTAMP:20260422T184650
CREATED:20251211T202505Z
LAST-MODIFIED:20251211T202505Z
UID:10001592-1765713600-1765735200@www.bethesda.org
SUMMARY:Waverly Street Gallery Annual Holiday Show
DESCRIPTION:Visit Waverly Street Gallery for the Annual Holiday Show by Waverly Street artists!
URL:https://www.bethesda.org/event/waverly-street-gallery-annual-holiday-show/2025-12-14/
LOCATION:Waverly Street Gallery\, 4600 East West Highway\, Bethesda\, MD\, 20814\, United States
CATEGORIES:Exhibit
END:VEVENT
BEGIN:VEVENT
DTSTART;TZID=America/New_York:20251218T120000
DTEND;TZID=America/New_York:20251218T180000
DTSTAMP:20260422T184650
CREATED:20251211T202505Z
LAST-MODIFIED:20251211T202505Z
UID:10001593-1766059200-1766080800@www.bethesda.org
SUMMARY:Waverly Street Gallery Annual Holiday Show
DESCRIPTION:Visit Waverly Street Gallery for the Annual Holiday Show by Waverly Street artists!
URL:https://www.bethesda.org/event/waverly-street-gallery-annual-holiday-show/2025-12-18/
LOCATION:Waverly Street Gallery\, 4600 East West Highway\, Bethesda\, MD\, 20814\, United States
CATEGORIES:Exhibit
END:VEVENT
BEGIN:VEVENT
DTSTART;TZID=America/New_York:20251219T120000
DTEND;TZID=America/New_York:20251219T180000
DTSTAMP:20260422T184650
CREATED:20251211T202505Z
LAST-MODIFIED:20251211T202505Z
UID:10001594-1766145600-1766167200@www.bethesda.org
SUMMARY:Waverly Street Gallery Annual Holiday Show
DESCRIPTION:Visit Waverly Street Gallery for the Annual Holiday Show by Waverly Street artists!
URL:https://www.bethesda.org/event/waverly-street-gallery-annual-holiday-show/2025-12-19/
LOCATION:Waverly Street Gallery\, 4600 East West Highway\, Bethesda\, MD\, 20814\, United States
CATEGORIES:Exhibit
END:VEVENT
BEGIN:VEVENT
DTSTART;TZID=America/New_York:20251220T120000
DTEND;TZID=America/New_York:20251220T180000
DTSTAMP:20260422T184650
CREATED:20251211T202505Z
LAST-MODIFIED:20251211T202505Z
UID:10001595-1766232000-1766253600@www.bethesda.org
SUMMARY:Waverly Street Gallery Annual Holiday Show
DESCRIPTION:Visit Waverly Street Gallery for the Annual Holiday Show by Waverly Street artists!
URL:https://www.bethesda.org/event/waverly-street-gallery-annual-holiday-show/2025-12-20/
LOCATION:Waverly Street Gallery\, 4600 East West Highway\, Bethesda\, MD\, 20814\, United States
CATEGORIES:Exhibit
END:VEVENT
BEGIN:VEVENT
DTSTART;TZID=America/New_York:20251221T120000
DTEND;TZID=America/New_York:20251221T180000
DTSTAMP:20260422T184650
CREATED:20251211T202505Z
LAST-MODIFIED:20251211T202505Z
UID:10001596-1766318400-1766340000@www.bethesda.org
SUMMARY:Waverly Street Gallery Annual Holiday Show
DESCRIPTION:Visit Waverly Street Gallery for the Annual Holiday Show by Waverly Street artists!
URL:https://www.bethesda.org/event/waverly-street-gallery-annual-holiday-show/2025-12-21/
LOCATION:Waverly Street Gallery\, 4600 East West Highway\, Bethesda\, MD\, 20814\, United States
CATEGORIES:Exhibit
END:VEVENT
BEGIN:VEVENT
DTSTART;TZID=America/New_York:20251226T120000
DTEND;TZID=America/New_York:20251226T180000
DTSTAMP:20260422T184650
CREATED:20251211T202505Z
LAST-MODIFIED:20251211T202505Z
UID:10001598-1766750400-1766772000@www.bethesda.org
SUMMARY:Waverly Street Gallery Annual Holiday Show
DESCRIPTION:Visit Waverly Street Gallery for the Annual Holiday Show by Waverly Street artists!
URL:https://www.bethesda.org/event/waverly-street-gallery-annual-holiday-show/2025-12-26/
LOCATION:Waverly Street Gallery\, 4600 East West Highway\, Bethesda\, MD\, 20814\, United States
CATEGORIES:Exhibit
END:VEVENT
BEGIN:VEVENT
DTSTART;TZID=America/New_York:20251227T120000
DTEND;TZID=America/New_York:20251227T180000
DTSTAMP:20260422T184650
CREATED:20251211T202505Z
LAST-MODIFIED:20251211T202505Z
UID:10001599-1766836800-1766858400@www.bethesda.org
SUMMARY:Waverly Street Gallery Annual Holiday Show
DESCRIPTION:Visit Waverly Street Gallery for the Annual Holiday Show by Waverly Street artists!
URL:https://www.bethesda.org/event/waverly-street-gallery-annual-holiday-show/2025-12-27/
LOCATION:Waverly Street Gallery\, 4600 East West Highway\, Bethesda\, MD\, 20814\, United States
CATEGORIES:Exhibit
END:VEVENT
BEGIN:VEVENT
DTSTART;TZID=America/New_York:20251228T120000
DTEND;TZID=America/New_York:20251228T180000
DTSTAMP:20260422T184650
CREATED:20251211T202505Z
LAST-MODIFIED:20251211T202505Z
UID:10001600-1766923200-1766944800@www.bethesda.org
SUMMARY:Waverly Street Gallery Annual Holiday Show
DESCRIPTION:Visit Waverly Street Gallery for the Annual Holiday Show by Waverly Street artists!
URL:https://www.bethesda.org/event/waverly-street-gallery-annual-holiday-show/2025-12-28/
LOCATION:Waverly Street Gallery\, 4600 East West Highway\, Bethesda\, MD\, 20814\, United States
CATEGORIES:Exhibit
END:VEVENT
END:VCALENDAR