BEGIN:VCALENDAR
VERSION:2.0
PRODID:-//BUP - ECPv6.15.20//NONSGML v1.0//EN
CALSCALE:GREGORIAN
METHOD:PUBLISH
X-ORIGINAL-URL:https://www.bethesda.org
X-WR-CALDESC:Events for BUP
REFRESH-INTERVAL;VALUE=DURATION:PT1H
X-Robots-Tag:noindex
X-PUBLISHED-TTL:PT1H
BEGIN:VTIMEZONE
TZID:America/New_York
BEGIN:DAYLIGHT
TZOFFSETFROM:-0500
TZOFFSETTO:-0400
TZNAME:EDT
DTSTART:20250309T070000
END:DAYLIGHT
BEGIN:STANDARD
TZOFFSETFROM:-0400
TZOFFSETTO:-0500
TZNAME:EST
DTSTART:20251102T060000
END:STANDARD
BEGIN:DAYLIGHT
TZOFFSETFROM:-0500
TZOFFSETTO:-0400
TZNAME:EDT
DTSTART:20260308T070000
END:DAYLIGHT
BEGIN:STANDARD
TZOFFSETFROM:-0400
TZOFFSETTO:-0500
TZNAME:EST
DTSTART:20261101T060000
END:STANDARD
BEGIN:DAYLIGHT
TZOFFSETFROM:-0500
TZOFFSETTO:-0400
TZNAME:EDT
DTSTART:20270314T070000
END:DAYLIGHT
BEGIN:STANDARD
TZOFFSETFROM:-0400
TZOFFSETTO:-0500
TZNAME:EST
DTSTART:20271107T060000
END:STANDARD
END:VTIMEZONE
BEGIN:VEVENT
DTSTART;VALUE=DATE:20260207
DTEND;VALUE=DATE:20260302
DTSTAMP:20260424T232113
CREATED:20260220T205301Z
LAST-MODIFIED:20260220T205301Z
UID:10001658-1770422400-1772409599@www.bethesda.org
SUMMARY:The Enchanted Mermaid
DESCRIPTION:Based on Walter de La Mare’s short story “Lord Fish”\, this show features Bunraku-style puppets. February 7th – March 1st\, 2026 Thursdays and Fridays at 10:30am Saturdays and Sundays at 11:30am and 2:30pm
URL:https://www.bethesda.org/event/enchanted-mermaid/
LOCATION:The Puppet Co. Playhouse\, 7300 MacArthur Boulevard\, Glen Echo\, MD\, 20812\, United States
CATEGORIES:Children's Event/Classes
END:VEVENT
BEGIN:VEVENT
DTSTART;VALUE=DATE:20260214
DTEND;VALUE=DATE:20260308
DTSTAMP:20260424T232113
CREATED:20251022T172840Z
LAST-MODIFIED:20251022T172840Z
UID:10000791-1771027200-1772927999@www.bethesda.org
SUMMARY:Havana Hop
DESCRIPTION:A charming\, dynamic tale of culture and originality\, created by award-winning DC and IStage artist Paige Hernandez\, using her childhood as inspiration. What if you were invited to dance for President Obama? You’d want it to be the best dance ever! Meet young Yelia who visits her grandmother in Cuba to add a salsa flavor to her own hip-hop style! Journey with Yelia as she discovers the fun of her multi-cultural heritage.
URL:https://www.bethesda.org/event/havana-hop/
LOCATION:Imagination Stage\, 4908 Auburn Avenue\, Bethesda\, MD\, 20814\, United States
CATEGORIES:Children's Event/Classes
END:VEVENT
BEGIN:VEVENT
DTSTART;TZID=America/New_York:20260224T103000
DTEND;TZID=America/New_York:20260224T120000
DTSTAMP:20260424T232113
CREATED:20250815T171340Z
LAST-MODIFIED:20250815T171340Z
UID:10000560-1771929000-1771934400@www.bethesda.org
SUMMARY:Toddler Storytime at Connie Morella Library
DESCRIPTION:Get up and get moving at storytime! These 20-30-minute programs are full of a diverse collection of books\, songs and fun activities. They are designed to introduce your child to the culture of reading and help develop your child’s language skills. Children are encouraged to engage with the stories and activities\, and their grownups are encouraged to participate in the program along with children.  ​ \nSpace is limited! FREE tickets are available on a first come\, first served basis at the Information desk beginning 30 minutes before the program. Toddler Storytime occurs at 10:30 and 11:15.
URL:https://www.bethesda.org/event/toddler-storytime-at-connie-morella-library/2026-02-24/
LOCATION:Connie Morella Library\, 7400 Arlington Road\, Bethesda\, MD\, 20814\, United States
CATEGORIES:Children's Event/Classes
END:VEVENT
END:VCALENDAR