BEGIN:VCALENDAR
VERSION:2.0
PRODID:-//BUP - ECPv6.15.20//NONSGML v1.0//EN
CALSCALE:GREGORIAN
METHOD:PUBLISH
X-ORIGINAL-URL:https://www.bethesda.org
X-WR-CALDESC:Events for BUP
REFRESH-INTERVAL;VALUE=DURATION:PT1H
X-Robots-Tag:noindex
X-PUBLISHED-TTL:PT1H
BEGIN:VTIMEZONE
TZID:America/New_York
BEGIN:DAYLIGHT
TZOFFSETFROM:-0500
TZOFFSETTO:-0400
TZNAME:EDT
DTSTART:20250309T070000
END:DAYLIGHT
BEGIN:STANDARD
TZOFFSETFROM:-0400
TZOFFSETTO:-0500
TZNAME:EST
DTSTART:20251102T060000
END:STANDARD
BEGIN:DAYLIGHT
TZOFFSETFROM:-0500
TZOFFSETTO:-0400
TZNAME:EDT
DTSTART:20260308T070000
END:DAYLIGHT
BEGIN:STANDARD
TZOFFSETFROM:-0400
TZOFFSETTO:-0500
TZNAME:EST
DTSTART:20261101T060000
END:STANDARD
BEGIN:DAYLIGHT
TZOFFSETFROM:-0500
TZOFFSETTO:-0400
TZNAME:EDT
DTSTART:20270314T070000
END:DAYLIGHT
BEGIN:STANDARD
TZOFFSETFROM:-0400
TZOFFSETTO:-0500
TZNAME:EST
DTSTART:20271107T060000
END:STANDARD
END:VTIMEZONE
BEGIN:VEVENT
DTSTART;VALUE=DATE:20260307
DTEND;VALUE=DATE:20260423
DTSTAMP:20260421T191053
CREATED:20260220T204912Z
LAST-MODIFIED:20260220T204912Z
UID:10001656-1772841600-1776902399@www.bethesda.org
SUMMARY:34th Annual Strathmore Juried Exhibition
DESCRIPTION:The table is set and your place awaits at Strathmore’s Steeped exhibition. Tue–Fri: 12–4pm / Sat: 10am–3pm
URL:https://www.bethesda.org/event/34th-annual-strathmore-juried-exhibition/
LOCATION:The Mansion at Strathmore
CATEGORIES:Exhibit
END:VEVENT
BEGIN:VEVENT
DTSTART;TZID=America/New_York:20260409T103000
DTEND;TZID=America/New_York:20260409T120000
DTSTAMP:20260421T191053
CREATED:20260317T190017Z
LAST-MODIFIED:20260317T190017Z
UID:10001732-1775730600-1775736000@www.bethesda.org
SUMMARY:Bethesda Reads Book Discussion Club
DESCRIPTION:Interested in joining? The Book Club meets the second Thursday of each month from 10:30 am to 12:00 pm. We’ll talk over the book Fever in the Heartland by Timothy Egan. \n\n\n\n\n\n\nThe book chosen for this month’s discussion is Fever in the Heartland by Timothy Egan. A historical thriller by the Pulitzer and National Award-winning author that tells the riveting story of the Klan’s rise to power in the 1920s\, the cunning con man who drove that rise and the woman who stopped them. \nCopies of this book will be available at the check out desk\, while supplies last.
URL:https://www.bethesda.org/event/bethesda-reads-book-discussion-club-4/
LOCATION:Connie Morella Library\, 7400 Arlington Road\, Bethesda\, MD\, 20814\, United States
CATEGORIES:Discussions/Readings
END:VEVENT
BEGIN:VEVENT
DTSTART;TZID=America/New_York:20260409T161500
DTEND;TZID=America/New_York:20260409T171500
DTSTAMP:20260421T191053
CREATED:20260317T192902Z
LAST-MODIFIED:20260317T192902Z
UID:10001733-1775751300-1775754900@www.bethesda.org
SUMMARY:My First Book Club
DESCRIPTION:Children in Grades K-1 can practice their reading skills through group reading\, activities & games based on beginner reader books. Each session will focus on a different theme. Caregivers must attend. \n\n\n\n\n\n\nMy First Book Club is a reading program designed to provide students in grades K-1 a unique opportunity to improve literacy and language arts skills through group reading\, discussion\, and related activities. Participants should be attending kindergarten or first grade\, or the equivalent\, but do not need to know how to read independently yet. This program does not teach kids how to read but rather serves as a fun and interactive way for beginning readers to practice reading aloud\, listening to others read\, and talking about stories and characters and language arts concepts\, such as theme and setting. \nEach session will focus on 1-2 short books with related discussion\, activities\, games\, and/or crafts. You do not need to read the book(s) ahead of time! Copies of the books will be provided by the library at the event\, and everyone will have the choice to volunteer to read aloud\, including adult caregivers and the librarians. Questions and discussion topics will be carefully structured to promote skills such as reading comprehension\, word recognition\, pronunciation\, and vocabulary-building. \nMy First Book Club can serve as a transition for kids ages 5-6 who have advanced from typical library pre-school Storytimes but might not yet be ready for elementary school programs like a traditional book club. Key goals are to get them excited about reading on their own and show them how to find books and use various learning resources that are available from the library and the librarians. The program is inclusive: regardless of a child’s initial reading abilities\, the goal is to help them improve their skills and confidence by engaging with the reading materials and other kids in a supportive learning environment.
URL:https://www.bethesda.org/event/my-first-book-club-2/
LOCATION:Connie Morella Library\, 7400 Arlington Road\, Bethesda\, MD\, 20814\, United States
CATEGORIES:Children's Event/Classes
END:VEVENT
BEGIN:VEVENT
DTSTART;TZID=America/New_York:20260409T173000
DTEND;TZID=America/New_York:20260409T193000
DTSTAMP:20260421T191053
CREATED:20260317T193000Z
LAST-MODIFIED:20260317T193000Z
UID:10001734-1775755800-1775763000@www.bethesda.org
SUMMARY:Beyond the Board
DESCRIPTION:Join us for a night of puzzles\, board games\, card games and more! Light refreshments will be served. \n\n\n\n\n\n\nWhether you’re new to puzzles and tabletop games or are looking for people to play with\, join others in a relaxed evening of gaming at the library. Feel free to use one of the puzzles and games in our collection or bring your own with you!
URL:https://www.bethesda.org/event/beyond-board/
LOCATION:Connie Morella Library\, 7400 Arlington Road\, Bethesda\, MD\, 20814\, United States
CATEGORIES:Special Event
END:VEVENT
BEGIN:VEVENT
DTSTART;TZID=America/New_York:20260409T200000
DTEND;TZID=America/New_York:20260409T220000
DTSTAMP:20260421T191053
CREATED:20260220T203710Z
LAST-MODIFIED:20260220T203710Z
UID:10001649-1775764800-1775772000@www.bethesda.org
SUMMARY:Angélique Kidjo
DESCRIPTION:Blending the vibrant West African sounds of her Beninese roots with global influences\, Kidjo’s music transcends genres.
URL:https://www.bethesda.org/event/angelique-kidjo/
LOCATION:The Music Center at Strathmore
CATEGORIES:Concerts/Music
END:VEVENT
END:VCALENDAR