BEGIN:VCALENDAR
VERSION:2.0
PRODID:-//BUP - ECPv6.15.20//NONSGML v1.0//EN
CALSCALE:GREGORIAN
METHOD:PUBLISH
X-ORIGINAL-URL:https://www.bethesda.org
X-WR-CALDESC:Events for BUP
REFRESH-INTERVAL;VALUE=DURATION:PT1H
X-Robots-Tag:noindex
X-PUBLISHED-TTL:PT1H
BEGIN:VTIMEZONE
TZID:America/New_York
BEGIN:DAYLIGHT
TZOFFSETFROM:-0500
TZOFFSETTO:-0400
TZNAME:EDT
DTSTART:20250309T070000
END:DAYLIGHT
BEGIN:STANDARD
TZOFFSETFROM:-0400
TZOFFSETTO:-0500
TZNAME:EST
DTSTART:20251102T060000
END:STANDARD
BEGIN:DAYLIGHT
TZOFFSETFROM:-0500
TZOFFSETTO:-0400
TZNAME:EDT
DTSTART:20260308T070000
END:DAYLIGHT
BEGIN:STANDARD
TZOFFSETFROM:-0400
TZOFFSETTO:-0500
TZNAME:EST
DTSTART:20261101T060000
END:STANDARD
BEGIN:DAYLIGHT
TZOFFSETFROM:-0500
TZOFFSETTO:-0400
TZNAME:EDT
DTSTART:20270314T070000
END:DAYLIGHT
BEGIN:STANDARD
TZOFFSETFROM:-0400
TZOFFSETTO:-0500
TZNAME:EST
DTSTART:20271107T060000
END:STANDARD
END:VTIMEZONE
BEGIN:VEVENT
DTSTART;VALUE=DATE:20260129
DTEND;VALUE=DATE:20260324
DTSTAMP:20260421T173609
CREATED:20251211T203923Z
LAST-MODIFIED:20251211T203923Z
UID:10001611-1769644800-1774310399@www.bethesda.org
SUMMARY:SUTRA by Deborah Tomlin
DESCRIPTION:In 2022\, Deborah Tomlin was diagnosed with breast cancer from a routine mammogram. She underwent treatment\, which consisted of three different surgeries including a bilateral mastectomy. In SUTRA\, Tomlin chooses to paint her scars and unfamiliar body and to examine the healing process through her art. As Audre Lorde expresses\, in The Cancer Journals\, “Any woman who has had a breast removed because of cancer knows she does not feel the same. But we are allowed no psychic time or space to examine what our true feelings are\, to make them our own. With quick cosmetic reassurance\, we are told that our feelings are not important\, our appearance is all\, the sum total of self.” \nThe title SUTRA in sanskrit means to stitch\, to mend\, to bring together\, to heal. This body of work drew Tomlin to a more abstract approach to painting and drawing including the layering of collage materials and stitching directly on the canvas. Text based on comments by doctors and friends during her treatment is also significant to this work. Painting on top of overflowing and overlapping text expresses Tomlin’s grief and anger. Stitching directly on the canvas with yarn and thread reframes her sutures and scars through the lens of darning and mending\, traditionally women’s work\, transforming an object ripped and torn into a material stronger and more beautiful by the act of repair. \nVisit The Writer’s Center for open hours.
URL:https://www.bethesda.org/event/sutra-by-deborah-tomlin/
LOCATION:The Writer’s Center\, 4508 Walsh Street\, Bethesda\, MD\, 20815\, United States
CATEGORIES:Exhibit
END:VEVENT
BEGIN:VEVENT
DTSTART;VALUE=DATE:20260205
DTEND;VALUE=DATE:20260406
DTSTAMP:20260421T173609
CREATED:20260224T154047Z
LAST-MODIFIED:20260224T154047Z
UID:10001699-1770249600-1775433599@www.bethesda.org
SUMMARY:Textiles That Talk: Tales of Rugged & Refined Beauty
DESCRIPTION:Years of searching for striking fabrics\, fibers and stories culminate in our latest Folk Art is Fine Art installation\, a sensuous journey around the globe with stops in Indonesia\, Japan\, Thailand\, Laos\, Guatemala\, Mexico\, Panama\, Peru\, South Africa\, Madagascar\, Indonesia\, Bangladesh\, Turkey\, Kurdistan and Afghanistan. We chronicle the how and why that is so distinctive to each artist\, spotlighting their creative springboards built from generations of artistry and practice. Common to all: turning out high design with medium derived directly from Mother Nature. \nFind colorful Mayan iconography\, woven and wrapping carved wooden stools; striking Kurdish saddlebags of hand-spun camel hair and wool; Escher-like Indonesian silks. See how daily needs meet art in the form of fish nets\, floor coverings\, amulets and space definers. All exquisite museum-quality\, they are sourced from the earth and long held tradition. Their stories are even more striking.
URL:https://www.bethesda.org/event/textiles-that-talk-tales-of-rugged-refined-beauty/
LOCATION:Amy Kaslow Gallery\, 7920 Norfolk Avenue\, Bethesda\, MD\, 20814\, United States
CATEGORIES:Exhibit
END:VEVENT
BEGIN:VEVENT
DTSTART;VALUE=DATE:20260307
DTEND;VALUE=DATE:20260423
DTSTAMP:20260421T173609
CREATED:20260220T204912Z
LAST-MODIFIED:20260220T204912Z
UID:10001656-1772841600-1776902399@www.bethesda.org
SUMMARY:34th Annual Strathmore Juried Exhibition
DESCRIPTION:The table is set and your place awaits at Strathmore’s Steeped exhibition. Tue–Fri: 12–4pm / Sat: 10am–3pm
URL:https://www.bethesda.org/event/34th-annual-strathmore-juried-exhibition/
LOCATION:The Mansion at Strathmore
CATEGORIES:Exhibit
END:VEVENT
BEGIN:VEVENT
DTSTART;VALUE=DATE:20260319
DTEND;VALUE=DATE:20260323
DTSTAMP:20260421T173609
CREATED:20260309T134741Z
LAST-MODIFIED:20260309T134816Z
UID:10001705-1773878400-1774223999@www.bethesda.org
SUMMARY:Kościuszko Foundation Polish Film Festival
DESCRIPTION:The third Kosciuszko Foundation Washington DC Polish Film Festival returns March 19–22\, 2026\, and offers an exciting lineup of new Polish films\, compelling conversations\, and special guests from Poland’s thriving film scene. Hosted at Landmark’s Bethesda Row Cinema\, the Festival highlights the artistry\, global relevance\, and creativity of modern Polish filmmaking and reinforces the Washington DC region as a leading destination for international film. Many of the Festival’s works will screen in the U.S. for the first time and all are presented with English subtitles.
URL:https://www.bethesda.org/event/kosciuszko-foundation-polish-film-festival/
LOCATION:Landmark Bethesda Row Cinema\, 7235 Woodmont Avenue\, Bethesda\, MD\, 20814\, United States
CATEGORIES:Special Event
END:VEVENT
BEGIN:VEVENT
DTSTART;TZID=America/New_York:20260320T110000
DTEND;TZID=America/New_York:20260320T120000
DTSTAMP:20260421T173609
CREATED:20260220T204651Z
LAST-MODIFIED:20260220T204651Z
UID:10001655-1774004400-1774008000@www.bethesda.org
SUMMARY:Early-Spring Tai Chi Open House via Zoom
DESCRIPTION:De-stress\, boost natural immunity\, increase fitness through low-impact exercise! No prior experience necessary. FREE but RSVP required via e-mail (SunAndMoonTaijiOne@gmail.com)
URL:https://www.bethesda.org/event/early-spring-tai-chi-open-house-via-zoom/
LOCATION:MD
CATEGORIES:Special Event
END:VEVENT
BEGIN:VEVENT
DTSTART;TZID=America/New_York:20260320T180000
DTEND;TZID=America/New_York:20260320T200000
DTSTAMP:20260421T173609
CREATED:20260220T214533Z
LAST-MODIFIED:20260220T214533Z
UID:10001680-1774029600-1774036800@www.bethesda.org
SUMMARY:Understanding Your Medicare Options
DESCRIPTION:The Montgomery County State Health Insurance Assistance Program (SHIP) will provide an overview of Medicare benefits\, eligibility\, enrollment\, costs\, & coverage\, as well as info on Medicare savings programs\, Medicare fraud\, protection & local services.
URL:https://www.bethesda.org/event/understanding-your-medicare-options/
LOCATION:Connie Morella Library\, 7400 Arlington Road\, Bethesda\, MD\, 20814\, United States
CATEGORIES:Classes/Workshops
END:VEVENT
BEGIN:VEVENT
DTSTART;TZID=America/New_York:20260320T183000
DTEND;TZID=America/New_York:20260320T223000
DTSTAMP:20260421T173609
CREATED:20260224T151536Z
LAST-MODIFIED:20260224T151536Z
UID:10001690-1774031400-1774045800@www.bethesda.org
SUMMARY:Just Fine: Mary J. Blige Tribute
DESCRIPTION:Just Fine is the ultimate Mary J. Blige tribute featuring lead vocalist Ms.Tre’ Jae who delivers the look and sound of her musical idol backed by an outstanding band led by professional recording drummer Rashad King with Tye Tribbett\, Dooby Powell and Noel Jones. The band performs Mary J. Blige’s most popular songs “You Remind Me”\, “Real Love”\, “Not Gon’ Cry”\, “Family Affair”\, “Be Without You” and many more which have inspired us with the emotion behind every song giving us hope and determination to be Just Fine! Dinner & Doors 6:30pm\, Showtime 8:30pm.
URL:https://www.bethesda.org/event/just-fine-mary-j-blige-tribute/
LOCATION:Bethesda Theater\, 7719 Wisconsin Avenue\, Bethesda\, MD\, 20814\, United States
CATEGORIES:Concerts/Music
END:VEVENT
END:VCALENDAR