BEGIN:VCALENDAR
VERSION:2.0
PRODID:-//BUP - ECPv6.15.17.1//NONSGML v1.0//EN
CALSCALE:GREGORIAN
METHOD:PUBLISH
X-WR-CALNAME:BUP
X-ORIGINAL-URL:https://www.bethesda.org
X-WR-CALDESC:Events for BUP
REFRESH-INTERVAL;VALUE=DURATION:PT1H
X-Robots-Tag:noindex
X-PUBLISHED-TTL:PT1H
BEGIN:VTIMEZONE
TZID:America/New_York
BEGIN:DAYLIGHT
TZOFFSETFROM:-0500
TZOFFSETTO:-0400
TZNAME:EDT
DTSTART:20250309T070000
END:DAYLIGHT
BEGIN:STANDARD
TZOFFSETFROM:-0400
TZOFFSETTO:-0500
TZNAME:EST
DTSTART:20251102T060000
END:STANDARD
BEGIN:DAYLIGHT
TZOFFSETFROM:-0500
TZOFFSETTO:-0400
TZNAME:EDT
DTSTART:20260308T070000
END:DAYLIGHT
BEGIN:STANDARD
TZOFFSETFROM:-0400
TZOFFSETTO:-0500
TZNAME:EST
DTSTART:20261101T060000
END:STANDARD
BEGIN:DAYLIGHT
TZOFFSETFROM:-0500
TZOFFSETTO:-0400
TZNAME:EDT
DTSTART:20270314T070000
END:DAYLIGHT
BEGIN:STANDARD
TZOFFSETFROM:-0400
TZOFFSETTO:-0500
TZNAME:EST
DTSTART:20271107T060000
END:STANDARD
END:VTIMEZONE
BEGIN:VEVENT
DTSTART;VALUE=DATE:20260129
DTEND;VALUE=DATE:20260324
DTSTAMP:20260419T102947
CREATED:20251211T203923Z
LAST-MODIFIED:20251211T203923Z
UID:10001611-1769644800-1774310399@www.bethesda.org
SUMMARY:SUTRA by Deborah Tomlin
DESCRIPTION:In 2022\, Deborah Tomlin was diagnosed with breast cancer from a routine mammogram. She underwent treatment\, which consisted of three different surgeries including a bilateral mastectomy. In SUTRA\, Tomlin chooses to paint her scars and unfamiliar body and to examine the healing process through her art. As Audre Lorde expresses\, in The Cancer Journals\, “Any woman who has had a breast removed because of cancer knows she does not feel the same. But we are allowed no psychic time or space to examine what our true feelings are\, to make them our own. With quick cosmetic reassurance\, we are told that our feelings are not important\, our appearance is all\, the sum total of self.” \nThe title SUTRA in sanskrit means to stitch\, to mend\, to bring together\, to heal. This body of work drew Tomlin to a more abstract approach to painting and drawing including the layering of collage materials and stitching directly on the canvas. Text based on comments by doctors and friends during her treatment is also significant to this work. Painting on top of overflowing and overlapping text expresses Tomlin’s grief and anger. Stitching directly on the canvas with yarn and thread reframes her sutures and scars through the lens of darning and mending\, traditionally women’s work\, transforming an object ripped and torn into a material stronger and more beautiful by the act of repair. \nVisit The Writer’s Center for open hours.
URL:https://www.bethesda.org/event/sutra-by-deborah-tomlin/
LOCATION:The Writer’s Center\, 4508 Walsh Street\, Bethesda\, MD\, 20815\, United States
CATEGORIES:Exhibit
END:VEVENT
BEGIN:VEVENT
DTSTART;VALUE=DATE:20260205
DTEND;VALUE=DATE:20260406
DTSTAMP:20260419T102947
CREATED:20260224T154047Z
LAST-MODIFIED:20260224T154047Z
UID:10001699-1770249600-1775433599@www.bethesda.org
SUMMARY:Textiles That Talk: Tales of Rugged & Refined Beauty
DESCRIPTION:Years of searching for striking fabrics\, fibers and stories culminate in our latest Folk Art is Fine Art installation\, a sensuous journey around the globe with stops in Indonesia\, Japan\, Thailand\, Laos\, Guatemala\, Mexico\, Panama\, Peru\, South Africa\, Madagascar\, Indonesia\, Bangladesh\, Turkey\, Kurdistan and Afghanistan. We chronicle the how and why that is so distinctive to each artist\, spotlighting their creative springboards built from generations of artistry and practice. Common to all: turning out high design with medium derived directly from Mother Nature. \nFind colorful Mayan iconography\, woven and wrapping carved wooden stools; striking Kurdish saddlebags of hand-spun camel hair and wool; Escher-like Indonesian silks. See how daily needs meet art in the form of fish nets\, floor coverings\, amulets and space definers. All exquisite museum-quality\, they are sourced from the earth and long held tradition. Their stories are even more striking.
URL:https://www.bethesda.org/event/textiles-that-talk-tales-of-rugged-refined-beauty/
LOCATION:Amy Kaslow Gallery\, 7920 Norfolk Avenue\, Bethesda\, MD\, 20814\, United States
CATEGORIES:Exhibit
END:VEVENT
BEGIN:VEVENT
DTSTART;VALUE=DATE:20260307
DTEND;VALUE=DATE:20260423
DTSTAMP:20260419T102947
CREATED:20260220T204912Z
LAST-MODIFIED:20260220T204912Z
UID:10001656-1772841600-1776902399@www.bethesda.org
SUMMARY:34th Annual Strathmore Juried Exhibition
DESCRIPTION:The table is set and your place awaits at Strathmore’s Steeped exhibition. Tue–Fri: 12–4pm / Sat: 10am–3pm
URL:https://www.bethesda.org/event/34th-annual-strathmore-juried-exhibition/
LOCATION:The Mansion at Strathmore
CATEGORIES:Exhibit
END:VEVENT
BEGIN:VEVENT
DTSTART;TZID=America/New_York:20260318T103000
DTEND;TZID=America/New_York:20260318T123000
DTSTAMP:20260419T102947
CREATED:20260220T214216Z
LAST-MODIFIED:20260220T214216Z
UID:10001678-1773829800-1773837000@www.bethesda.org
SUMMARY:Fiber Friends
DESCRIPTION:A biweekly meeting for creative people to come relax and craft with each other. \n\n\n\n\n\n\nDo enjoy taking a break and knitting or crocheting? What about embroidery? If so\, join us and relax in a group of fiber enthusiasts! Feel free to bring your projects and work on them in a laid-back setting. We meet on the 1st and 3rd Wednesday of every month from 10:30am to 12:30pm.
URL:https://www.bethesda.org/event/fiber-friends-4/
LOCATION:Connie Morella Library\, 7400 Arlington Road\, Bethesda\, MD\, 20814\, United States
CATEGORIES:Special Event
END:VEVENT
BEGIN:VEVENT
DTSTART;TZID=America/New_York:20260318T110000
DTEND;TZID=America/New_York:20260318T120000
DTSTAMP:20260419T102947
CREATED:20250930T182144Z
LAST-MODIFIED:20250930T182144Z
UID:10000705-1773831600-1773835200@www.bethesda.org
SUMMARY:B-CC English Conversation Club
DESCRIPTION:Join us every Wednesday at the B-CC Regional Services Center to practice conversational English in small groups. Share your experiences and culture with other non-native English speakers in a friendly environment. For more information\, please view our flyer here.
URL:https://www.bethesda.org/event/b-cc-english-conversation-club-4/2026-03-18/
LOCATION:B-CC Regional Services Center\, 4805 Edgemoor Lane\, 2nd Floor\, Bethesda\, MD\, 20814\, United States
CATEGORIES:Discussions/Readings
END:VEVENT
BEGIN:VEVENT
DTSTART;TZID=America/New_York:20260318T160000
DTEND;TZID=America/New_York:20260318T170000
DTSTAMP:20260419T102947
CREATED:20251212T205856Z
LAST-MODIFIED:20251212T205856Z
UID:10000430-1773849600-1773853200@www.bethesda.org
SUMMARY:LEGO Construction & Duplo Too!
DESCRIPTION:Each Wednesday\, join us in the meeting room from 4:00pm-5:00pm for a session of building with LEGO and Duplos! We supply the LEGO and Duplo pieces\, and you supply the imagination! \nThis program is for children ages 3 years old and up. Parents/caregivers MUST accompany children under the age of 8 during the program.
URL:https://www.bethesda.org/event/lego-construction-duplo-too-2/2026-03-18/
LOCATION:Connie Morella Library\, 7400 Arlington Road\, Bethesda\, MD\, 20814\, United States
CATEGORIES:Children's Event/Classes
END:VEVENT
BEGIN:VEVENT
DTSTART;TZID=America/New_York:20260318T183000
DTEND;TZID=America/New_York:20260318T193000
DTSTAMP:20260419T102947
CREATED:20260220T214400Z
LAST-MODIFIED:20260220T214400Z
UID:10001679-1773858600-1773862200@www.bethesda.org
SUMMARY:Middle School Book Club: Grades 6-8
DESCRIPTION:Calling all readers in Grades 6-8! Join us for a lively discussion of THE MONA LISA VANISHES\, by Nicholas Day. The program is for ages 11 to 14. \n\n\n\n\n\n\nMiddle School Book Club welcomes ALL readers in grades 6\, 7\, and 8 for a monthly meeting and discussion of books chosen by a librarian just for this age group and read ahead of time. Anyone ages 11-14 is welcome! \nIf you are in grades 6\, 7\, or 8 and love to read and have fun talking about books and characters\, Middle School Book Club is the place for you! Over the course of the school year\, we’ll read books with a wide range of genres—featuring characters your age and themes such as friendship\, family\, overcoming adversity\, confronting challenges\, sorting through conflicting values\, and navigating life\, school\, sports and other extracurricular activities\, other people’s expectations\, and their expanding knowledge of themselves and the world around them. We often use new books published within the last 5 years and acclaimed titles from such award programs as the Black-Eyed Susan Tapestry. Each session’s interactive discussions and hands-on activities will relate to the major topics and themes of the book in a fun and engaging way. \nEach month\, you can borrow a copy of the assigned book from the Connie Morella Library. You can also access many of the titles as e-books or e-audiobooks through the library’s free app\, Hoopla and Libby. The book for March 18 is THE MONA LISA VANISHES\, by Nicholas Day.
URL:https://www.bethesda.org/event/middle-school-book-club-grades-6-8/
LOCATION:Connie Morella Library\, 7400 Arlington Road\, Bethesda\, MD\, 20814\, United States
CATEGORIES:Children's Event/Classes
END:VEVENT
BEGIN:VEVENT
DTSTART;TZID=America/New_York:20260318T190000
DTEND;TZID=America/New_York:20260318T213000
DTSTAMP:20260419T102947
CREATED:20260224T150410Z
LAST-MODIFIED:20260224T163134Z
UID:10001683-1773860400-1773869400@www.bethesda.org
SUMMARY:Local Writer's Showcase - Poetry
DESCRIPTION:The annual Essay and Short Story contest\, and the Bethesda Poetry Contest will honor local writers on March 13 (Essay & Short Story) and March 18 (Poetry).  Please join us at these public events to celebrate the achievements of our local high school and adult writers. We thank our partners Bethesda Magazine\, The Writer’s Center and The Trawick Foundation for their support.
URL:https://www.bethesda.org/event/local-writers-showcase-poetry-reading/
LOCATION:The Writer’s Center\, 4508 Walsh Street\, Bethesda\, MD\, 20815\, United States
CATEGORIES:BUP,Special Event
END:VEVENT
END:VCALENDAR