BEGIN:VCALENDAR
VERSION:2.0
PRODID:-//BUP - ECPv6.15.20//NONSGML v1.0//EN
CALSCALE:GREGORIAN
METHOD:PUBLISH
X-ORIGINAL-URL:https://www.bethesda.org
X-WR-CALDESC:Events for BUP
REFRESH-INTERVAL;VALUE=DURATION:PT1H
X-Robots-Tag:noindex
X-PUBLISHED-TTL:PT1H
BEGIN:VTIMEZONE
TZID:America/New_York
BEGIN:DAYLIGHT
TZOFFSETFROM:-0500
TZOFFSETTO:-0400
TZNAME:EDT
DTSTART:20250309T070000
END:DAYLIGHT
BEGIN:STANDARD
TZOFFSETFROM:-0400
TZOFFSETTO:-0500
TZNAME:EST
DTSTART:20251102T060000
END:STANDARD
BEGIN:DAYLIGHT
TZOFFSETFROM:-0500
TZOFFSETTO:-0400
TZNAME:EDT
DTSTART:20260308T070000
END:DAYLIGHT
BEGIN:STANDARD
TZOFFSETFROM:-0400
TZOFFSETTO:-0500
TZNAME:EST
DTSTART:20261101T060000
END:STANDARD
BEGIN:DAYLIGHT
TZOFFSETFROM:-0500
TZOFFSETTO:-0400
TZNAME:EDT
DTSTART:20270314T070000
END:DAYLIGHT
BEGIN:STANDARD
TZOFFSETFROM:-0400
TZOFFSETTO:-0500
TZNAME:EST
DTSTART:20271107T060000
END:STANDARD
END:VTIMEZONE
BEGIN:VEVENT
DTSTART;VALUE=DATE:20260109
DTEND;VALUE=DATE:20260202
DTSTAMP:20260421T112235
CREATED:20260115T145042Z
LAST-MODIFIED:20260115T152537Z
UID:10001635-1767916800-1769990399@www.bethesda.org
SUMMARY:Art As Inspiration for Blair G. Ewing Students
DESCRIPTION:The Blair G. Ewing Center is MCPS’s Alternative Education Program\, designed to serve students with a variety of learning and social emotional needs. John Charles\, art teacher at the center\, has spent the past several years crafting the visual arts program to allow the students to express their creativity and emotions while also fulfilling their art credit requirements. The classes “blend several studio media\, printmaking\, sculpture\, photography and digital arts” says Charles\, whose own background in silk-screening encourages the students to layer drawings and photographs with abstract elements to create multimedia compositions. The January show will feature large- and small-scale prints from current students and recent alumni.
URL:https://www.bethesda.org/event/beyond-canvas-art-as-inspiration-for-students-of-blair-g-ewing-center/
LOCATION:Gallery B\, 7700 Wisconsin Avenue\, Bethesda\, MD\, 20814\, United States
CATEGORIES:BUP,Exhibit
END:VEVENT
END:VCALENDAR