BEGIN:VCALENDAR
VERSION:2.0
PRODID:-//BUP - ECPv6.15.20//NONSGML v1.0//EN
CALSCALE:GREGORIAN
METHOD:PUBLISH
X-ORIGINAL-URL:https://www.bethesda.org
X-WR-CALDESC:Events for BUP
REFRESH-INTERVAL;VALUE=DURATION:PT1H
X-Robots-Tag:noindex
X-PUBLISHED-TTL:PT1H
BEGIN:VTIMEZONE
TZID:America/New_York
BEGIN:DAYLIGHT
TZOFFSETFROM:-0500
TZOFFSETTO:-0400
TZNAME:EDT
DTSTART:20240310T070000
END:DAYLIGHT
BEGIN:STANDARD
TZOFFSETFROM:-0400
TZOFFSETTO:-0500
TZNAME:EST
DTSTART:20241103T060000
END:STANDARD
BEGIN:DAYLIGHT
TZOFFSETFROM:-0500
TZOFFSETTO:-0400
TZNAME:EDT
DTSTART:20250309T070000
END:DAYLIGHT
BEGIN:STANDARD
TZOFFSETFROM:-0400
TZOFFSETTO:-0500
TZNAME:EST
DTSTART:20251102T060000
END:STANDARD
BEGIN:DAYLIGHT
TZOFFSETFROM:-0500
TZOFFSETTO:-0400
TZNAME:EDT
DTSTART:20260308T070000
END:DAYLIGHT
BEGIN:STANDARD
TZOFFSETFROM:-0400
TZOFFSETTO:-0500
TZNAME:EST
DTSTART:20261101T060000
END:STANDARD
END:VTIMEZONE
BEGIN:VEVENT
DTSTART;VALUE=DATE:20250528
DTEND;VALUE=DATE:20250623
DTSTAMP:20260422T175553
CREATED:20250106T044205Z
LAST-MODIFIED:20250106T225357Z
UID:10000030-1748390400-1750636799@www.bethesda.org
SUMMARY:King James at Round House Theatre
DESCRIPTION:At first glance\, Shawn and Matt couldn’t be more different. However\, when they discover they are both diehard Cleveland Cavaliers fans\, they quickly form a close bond over their shared love of basketball—and the breathtaking talents of NBA star LeBron James. Over the course of many years\, their relationship ebbs and flows with the fortunes of their beloved team. This witty and energetic comedy is a “wonderfully daring\, imaginative\, and compassionate” (The New York Times) celebration of the enduring power of sports fandom and unexpected friendships\, written by Pulitzer Prize finalist Rajiv Joseph (Bengal Tiger at the Baghdad Zoo). Learn More & Buy Tickets
URL:https://www.bethesda.org/event/king-james-at-round-house-theatre/
LOCATION:Round House Theatre
CATEGORIES:Live Performance
END:VEVENT
BEGIN:VEVENT
DTSTART;VALUE=DATE:20250606
DTEND;VALUE=DATE:20250630
DTSTAMP:20260422T175553
CREATED:20250214T181528Z
LAST-MODIFIED:20250214T181528Z
UID:10000053-1749168000-1751241599@www.bethesda.org
SUMMARY:Bethesda Painting Awards Exhibit
DESCRIPTION:The Bethesda Painting Awards is a juried competition that awards $14\,000 to regional painters. The finalists’ artwork is featured in a group exhibition.
URL:https://www.bethesda.org/event/bethesda-painting-awards-exhibit/
LOCATION:MD
CATEGORIES:BUP,Special Event
ATTACH;FMTTYPE=image/png:https://www.bethesda.org/wp-content/uploads/2025/02/image-2.png
END:VEVENT
BEGIN:VEVENT
DTSTART;VALUE=DATE:20250614
DTEND;VALUE=DATE:20250803
DTSTAMP:20260422T175553
CREATED:20250618T192302Z
LAST-MODIFIED:20250618T192458Z
UID:10000368-1749859200-1754179199@www.bethesda.org
SUMMARY:Colored Pencil Society of America
DESCRIPTION:This exhibition highlights incredible works from top artists ranging from photorealism to painterly. The exhibit is open Tuesdays-Saturdays. Hours vary\, visit Strathmore.org for details.
URL:https://www.bethesda.org/event/colored-pencil-society-of-america/
LOCATION:The Mansion at Strathmore
CATEGORIES:Exhibit
END:VEVENT
BEGIN:VEVENT
DTSTART;TZID=America/New_York:20250620T180000
DTEND;TZID=America/New_York:20250620T180000
DTSTAMP:20260422T175553
CREATED:20250224T192851Z
LAST-MODIFIED:20250224T200538Z
UID:10000060-1750442400-1750442400@www.bethesda.org
SUMMARY:Billy Coulter Band
DESCRIPTION:
URL:https://www.bethesda.org/event/billy-coulter-band-2/
LOCATION:Woodmont Triangle\, Corner of Norfolk & St. Elmo Avenues
CATEGORIES:Concerts/Music,Summer Concert Series
ATTACH;FMTTYPE=image/jpeg:https://www.bethesda.org/wp-content/uploads/2025/02/image-2.jpeg
END:VEVENT
END:VCALENDAR